BEGIN:VCALENDAR
VERSION:2.0
PRODID:-//ChamberMaster//Event Calendar 2.0//EN
METHOD:PUBLISH
X-PUBLISHED-TTL:P3D
REFRESH-INTERVAL:P3D
CALSCALE:GREGORIAN
BEGIN:VEVENT
DTSTART:20160721T160000Z
DTEND:20160721T230000Z
X-MICROSOFT-CDO-ALLDAYEVENT:FALSE
SUMMARY:42nd Annual Play Day Golf Outing
DESCRIPTION:The Greater La Porte Chamber of Commerce will host the 42nd Annual Play Day Golf Outing on July 21st at Beechwood Golf Course. This will be the Greater La Porte Chamber of Commerce's 6th Annual Big Cup Tournament\, featuring larger holes for twice the amount of fun!\n\n \n\nThe outing will begin with registration at 11:00 a.m. A shotgun start for golfers will begin at 12:00 p.m.\n\n \n\nCost to participate is $130 per golfer or $530 for a team of 4 for members and $150 per golfer or $610 for a team of 4 for non-members.  \n\n \n\nThe golf outing will include several contests that prove to be golfer favorites every year. These contests include: a Hole-in-One Contest sponsored by Sauers Buick-GMC & Pine Ford Lincoln\, the Longest Drive Contest sponsored by Schmitt & Kaylor CPAs\, the Fastest Hole Contest sponsored by the South Bend International Airport\, and a Putting Contest sponsored by Lakeshore Promotions and Gifts.\n\n \n\nProceeds from this event will maintain and foster La Porte Chamber programs such as business retention and expansion efforts\, governmental affairs\, workshops\, enhancing networking opportunities and more.\n\n \n\nFor more information or to register a team\, contact the Chamber at (219) 362-3178.
X-ALT-DESC;FMTTYPE=text/html:<span style="font-size: 14px\;"><span style="color: rgb(48\, 48\, 48)\;"><span style="font-family: verdana\, sans-serif\;">The Greater La Porte Chamber of Commerce will host the&nbsp\;42nd&nbsp\;Annual Play Day Golf Outing on July 21st at&nbsp\;Beechwood&nbsp\;Golf Course. This will be the Greater La Porte Chamber of Commerce&#39\;s 6th Annual Big Cup Tournament\, featuring larger holes for twice the amount of fun!</span></span><br />\n&nbsp\;<br />\n<span style="color: rgb(48\, 48\, 48)\;"><span style="font-family: verdana\, sans-serif\;">The outing will begin with registration at 11:00 a.m. A shotgun start for golfers will begin at 12:00 p.m.</span></span><br />\n&nbsp\;<br />\n<span style="color: rgb(48\, 48\, 48)\;"><span style="font-family: verdana\, sans-serif\;">Cost to participate is $130 per golfer or $530 for a team&nbsp\;of 4 for members and $150 per golfer or $610 for a team&nbsp\;of 4 for non-members. &nbsp\;</span></span><br />\n&nbsp\;<br />\n<span style="color: rgb(48\, 48\, 48)\;"><span style="font-family: verdana\, sans-serif\;">The golf outing will include several contests that prove to be golfer favorites every year. These contests include: a Hole-in-One Contest sponsored by&nbsp\;Sauers&nbsp\;Buick-GMC &amp\; Pine Ford Lincoln\, the Longest Drive Contest sponsored by Schmitt &amp\;&nbsp\;Kaylor&nbsp\;CPAs\, the Fastest Hole Contest sponsored by the South Bend International Airport\, and a Putting Contest sponsored by Lakeshore Promotions and Gifts.</span></span><br />\n&nbsp\;<br />\n<span style="color: rgb(48\, 48\, 48)\;"><span style="font-family: verdana\, sans-serif\;">Proceeds from this event will maintain and foster La Porte Chamber programs such as business retention and expansion efforts\, governmental affairs\, workshops\, enhancing networking opportunities and more.</span></span><br />\n&nbsp\;<br />\n<span style="color: rgb(48\, 48\, 48)\;"><span style="font-family: verdana\, sans-serif\;">For more information or to register a team\, contact the Chamber at (219) 362-3178.</span></span></span>
LOCATION:Beechwood Golf Course 2222 Woodlawn Drive La Porte
UID:e.1949.2553
SEQUENCE:3
DTSTAMP:20260426T021409Z
URL:https://members.laportepartnership.com/events/details/42nd-annual-play-day-golf-outing-07-21-2016-2553
END:VEVENT

END:VCALENDAR
