BEGIN:VCALENDAR
VERSION:2.0
PRODID:-//ChamberMaster//Event Calendar 2.0//EN
METHOD:PUBLISH
X-PUBLISHED-TTL:P3D
REFRESH-INTERVAL:P3D
CALSCALE:GREGORIAN
BEGIN:VEVENT
DTSTART:20180630T130000Z
DTEND:20180630T180000Z
X-MICROSOFT-CDO-ALLDAYEVENT:FALSE
SUMMARY:45th Annual La Porte Jaycees Arts & Crafts Festival
DESCRIPTION:The La Porte Jaycees Annual Arts & Crafts Festival has been the traditional kick off to the Jaycees 4th of July season in La Porte for many years. The festival will be Saturday\, June 30th from 8am-1pm. The festival is held in the parking lot off of State and Monroe Streets in La Porte (behind Mucho Mas Restaurant on Lincolnway) in conjunction with the LaPorte Farmer's Market sponsored by the City of La Porte's Urban Enterprise Association.
X-ALT-DESC;FMTTYPE=text/html:<span style="color: rgb(68\, 68\, 68)\; font-family: &quot\;Pontano Sans&quot\;\, sans-serif\; font-size: 18px\;">The La Porte Jaycees Annual Arts &amp\; Crafts Festival has been the traditional kick off to the Jaycees 4th of July season in La Porte for many years.&nbsp\;The festival will be Saturday\, June 30th from 8am-1pm.&nbsp\;The festival is held in the parking lot off of State and Monroe Streets in La Porte (behind Mucho Mas Restaurant on Lincolnway)&nbsp\;in conjunction with the LaPorte Farmer&#39\;s Market sponsored by the City of La Porte&#39\;s Urban Enterprise Association.</span>
LOCATION:Herald-Argus Parking lot off of State and Monroe Street
UID:e.1949.4177
SEQUENCE:3
DTSTAMP:20260424T090530Z
URL:https://members.laportepartnership.com/events/details/45th-annual-la-porte-jaycees-arts-crafts-festival-4177
END:VEVENT

END:VCALENDAR
