BEGIN:VCALENDAR
VERSION:2.0
PRODID:-//ChamberMaster//Event Calendar 2.0//EN
METHOD:PUBLISH
X-PUBLISHED-TTL:P3D
REFRESH-INTERVAL:P3D
CALSCALE:GREGORIAN
BEGIN:VEVENT
DTSTART:20180324T150000Z
DTEND:20180324T200000Z
X-MICROSOFT-CDO-ALLDAYEVENT:FALSE
SUMMARY:4th Annual Down syndrome Awareness Fundraiser
DESCRIPTION:Clark's Family Chiropractic will be hosting its 4th Annual Down syndrome Awareness Fundraiser. This year will be bigger and better with more of your favorite Star Wars characters including R2-D2 and the Northwest Indiana Ghostbusters to take pictures with. Bring your family and friends to enjoy our Raffles\, Silent Auction Items including a 19 inch TV and a $100 certificate to Indiana Furniture\, Food\, Games and Face Painting Massage and Reflexology will be available for $1.00/minute We are still accepting donations from local business so please contact us with your generous donation. Proceeds will be donated to the Michiana Down syndrome group in Mishawaka\, In. Open To The Public
X-ALT-DESC;FMTTYPE=text/html:Clark&rsquo\;s Family Chiropractic will be hosting its 4th Annual Down syndrome Awareness Fundraiser. This year will be bigger and better with more of your favorite Star Wars characters including R2-D2 and the Northwest Indiana Ghostbusters to take pictures with. Bring your family and friends to enjoy our Raffles\, Silent Auction Items including a 19 inch TV and a $100 certificate to Indiana Furniture\, Food\, Games and Face Painting Massage and Reflexology will be available for $1.00/minute We are still accepting donations from local business so please contact us with your generous donation. Proceeds will be donated to the Michiana Down syndrome group in Mishawaka\, In. Open To The Public
LOCATION:6646 W. Johnson Rd LaPorte\, In 219-879-5437
UID:e.1949.3036
SEQUENCE:3
DTSTAMP:20260424T134122Z
URL:https://members.laportepartnership.com/events/details/4th-annual-down-syndrome-awareness-fundraiser-3036
END:VEVENT

END:VCALENDAR
