BEGIN:VCALENDAR
VERSION:2.0
PRODID:-//ChamberMaster//Event Calendar 2.0//EN
METHOD:PUBLISH
X-PUBLISHED-TTL:P3D
REFRESH-INTERVAL:P3D
CALSCALE:GREGORIAN
BEGIN:VEVENT
DTSTART:20170930T140000Z
DTEND:20170930T200000Z
X-MICROSOFT-CDO-ALLDAYEVENT:FALSE
SUMMARY:4th Annual UMW Fall Arts & Crafts Show
DESCRIPTION:Featuring over 80 artists and crafters from Illinois\, Indiana and Michigan. There is something for everyone. Find unique\, handcrafted items for the home\, garden\, and office\; fashion apparel for adults and children\; pet accessories\; original artwork and photography\, and more. Lunch and desserts available for purchase. All vendors are inside.
X-ALT-DESC;FMTTYPE=text/html:Featuring over 80 artists and crafters from Illinois\, Indiana and Michigan. There is something for everyone. Find unique\, handcrafted items for the home\, garden\, and office\; fashion apparel for adults and children\; pet accessories\; original artwork and photography\, and more. Lunch and desserts available for purchase. All vendors are inside.
LOCATION:LaPorte County Fairgrounds 2581 W. State Rd. 2 LaPorte
UID:e.1949.2843
SEQUENCE:3
DTSTAMP:20260425T002424Z
URL:https://members.laportepartnership.com/events/details/4th-annual-umw-fall-arts-crafts-show-2843
END:VEVENT

END:VCALENDAR
