BEGIN:VCALENDAR
VERSION:2.0
PRODID:-//ChamberMaster//Event Calendar 2.0//EN
METHOD:PUBLISH
X-PUBLISHED-TTL:P3D
REFRESH-INTERVAL:P3D
CALSCALE:GREGORIAN
BEGIN:VEVENT
DTSTART:20161124T140000Z
DTEND:20161124T160000Z
X-MICROSOFT-CDO-ALLDAYEVENT:FALSE
SUMMARY:5K Turkey Trot- La Porte Educational Development Foundation
DESCRIPTION:Join the La Porte Educational Development Foundation for the 5K Turkey Trot on Thanksgiving Day\, November 24\, 2016. The race begins at 8:00 a.m. with registration at 7:15 a.m. at the La Porte YMCA\, 901 Michigan Avenue in La Porte. The La Porte Educational Development Foundation is a community volunteer organization that provides classroom grants to teachers in the La Porte Communtiy School Corporation. Our mission is to "Energize Education." Proceeds from the 2016 5K will go towards improvements around the "Meyer's Mile" track at Hailmann Elementary. Pre-register online at www.active.com for $20 or sign up on Turkey Trot Day for $25.
X-ALT-DESC;FMTTYPE=text/html:Join the La Porte Educational Development Foundation for the 5K Turkey Trot on Thanksgiving Day\, November 24\, 2016. The race begins at 8:00 a.m. with registration at 7:15 a.m. at the La Porte YMCA\, 901 Michigan Avenue in La Porte. The La Porte Educational Development Foundation is a community volunteer organization that provides classroom grants to teachers in the La Porte Communtiy School Corporation. Our mission is to &quot\;Energize Education.&quot\; Proceeds from the 2016 5K will go towards improvements around the &quot\;Meyer&#39\;s Mile&quot\; track at Hailmann Elementary. Pre-register online at www.active.com for $20 or sign up on Turkey Trot Day for $25.
LOCATION:La Porte County Family YMCA 901 Michigan Avenue La Porte
UID:e.1949.2678
SEQUENCE:3
DTSTAMP:20260425T185631Z
URL:https://members.laportepartnership.com/events/details/5k-turkey-trot-la-porte-educational-development-foundation-2678
END:VEVENT

END:VCALENDAR
