BEGIN:VCALENDAR
VERSION:2.0
PRODID:-//ChamberMaster//Event Calendar 2.0//EN
METHOD:PUBLISH
X-PUBLISHED-TTL:P3D
REFRESH-INTERVAL:P3D
CALSCALE:GREGORIAN
BEGIN:VEVENT
DTSTART:20180616T140000Z
DTEND:20180616T200000Z
X-MICROSOFT-CDO-ALLDAYEVENT:FALSE
SUMMARY:5th Annual ACOA Spring Arts & Crafts Show
DESCRIPTION:5th annual ACOA Arts & Crafts Show   If you're looking for that one-of-a-kind item for your home or that perfect gift for a friend\, you won't want to miss this event.  The show will be held on June 16\, from 9:00 a.m. to 3:00 p.m. (CDT) at the Swanson Activity Center for Older Adults at 910 State St. in LaPorte.  Artists and crafters from Indiana and Michigan will be showcasing their unique\, hand-crafted wares.  If you're looking for something for your yard or patio\; check out the bird baths and feeders\, stepping stones\, sculpted stoneware\, decorated wood signs and assorted live garden plants.  If you want to spruce up your home d cor\; you'll find original paintings\, baskets\, wall hangings\, glassware\, clocks\, coasters\, wooden bowls and pressed flower artwork.  Visitors will also find a large variety of hand sewn items such as adult bibs\, totes\, oven mitts\, veggie bags\, doll clothes and table runners.  Also on  hand will be independent consultants representing Thirty-One Gifts\, Scentsy\, LuLaRoe and Damsel in Defense.  Come early and enjoy a cup of coffee and dessert before you shop or stay afterwards for lunch.  For more information call the Activity Center at 219-326-5354.
X-ALT-DESC;FMTTYPE=text/html:5th annual ACOA Arts &amp\; Crafts Show &nbsp\; If you&rsquo\;re looking for that one-of-a-kind item for your home or that perfect gift for a friend\, you won&rsquo\;t want to miss this event.&nbsp\; The show will be held on June 16\, from 9:00 a.m. to 3:00 p.m. (CDT) at the Swanson Activity Center for Older Adults at 910 State St. in LaPorte.&nbsp\; Artists and crafters from Indiana and Michigan will be showcasing their unique\, hand-crafted wares.&nbsp\; If you&rsquo\;re looking for something for your yard or patio\; check out the bird baths and feeders\, stepping stones\, sculpted stoneware\, decorated wood signs and assorted live garden plants.&nbsp\; If you want to spruce up your home d&eacute\;cor\; you&rsquo\;ll find original paintings\, baskets\, wall hangings\, glassware\, clocks\, coasters\, wooden bowls and pressed flower artwork.&nbsp\; Visitors will also find a large variety of hand sewn items such as adult bibs\, totes\, oven mitts\, veggie bags\, doll clothes and table runners.&nbsp\; Also on&nbsp\; hand will be independent consultants representing Thirty-One Gifts\, Scentsy\, LuLaRoe and Damsel in Defense.&nbsp\; Come early and enjoy a cup of coffee and dessert before you shop or stay afterwards for lunch.&nbsp\; For more information call the Activity Center at 219-326-5354.
LOCATION:Swanson Activity Center for Older Adults 910 State St.\, LaPorte
UID:e.1949.4122
SEQUENCE:3
DTSTAMP:20260424T102419Z
URL:https://members.laportepartnership.com/events/details/5th-annual-acoa-spring-arts-crafts-show-4122
END:VEVENT

END:VCALENDAR
