BEGIN:VCALENDAR
VERSION:2.0
PRODID:-//ChamberMaster//Event Calendar 2.0//EN
METHOD:PUBLISH
X-PUBLISHED-TTL:P3D
REFRESH-INTERVAL:P3D
CALSCALE:GREGORIAN
BEGIN:VEVENT
DTSTART:20160811T230000Z
DTEND:20160812T020000Z
X-MICROSOFT-CDO-ALLDAYEVENT:FALSE
SUMMARY:5th Annual Good Life Awards
DESCRIPTION:The annual event honors six awardees who go above and beyond to impact the mission of the Ideas in Motion Media good news outlets in a positive and meaningful manner. Each winner is honored with a custom solid-steel Good Life Award trophy\, designed and crafted by Industrial Revolution Eatery & Grille owner Mike Leeson.\n\n\n\nProceeds from this year's event will be awarded to three outstanding nonprofits via a completely unique #GoodLifePitch element that has been added to this year's event to help many great organizations share their stories. \n\n\n\nIn the past\, non-profit organizations receiving the night's proceeds were determined before the event took place. This year\, the big decision will be made the very night of our event. #GoodLifePitch applications are available here: http://valpolife.com/home/joomlife/joomlife.com/images/PDF/Pitch-Whats-Good-Form.pdf -- as well as at the Good Life Awards for you to turn in that night. Whether you are a contributor\, admirer\, employee\, or CEO of a community organization\, or have been blessed by one\, we want your pitch! Tell us why an organization that you have a passion for deserves the proceeds and our team will carefully read through all of the submissions that night\, choosing three outstanding pitches. Just remember\, you have to attend the 2016 Good Life Awards event to enter!\n\n\n\nWe hope you will join us for this year's festivities! Check out last year's party here! \n\nhttp://www.nwindianalife.com/business/staff-development/55258-2015-good-life-awards-brought-recognition-and-applause-to-nwi-s-most-positive-people\n\n*Note: This is a 21 and over event.
X-ALT-DESC;FMTTYPE=text/html:<span style="color: rgb(75\, 79\, 86)\; font-family: helvetica\, arial\, sans-serif\; font-size: 14px\; line-height: 18.76px\;">The annual event honors six awardees who go above and beyond to impact the mission of the Ideas in Motion Media good news outlets in a positive and meaningful manner. Each winner is honored with a custom solid-steel Good Life Award trophy\, designed and crafted by&nbsp\;</span><a data-hovercard="/ajax/hovercard/page.php?id=341386156924&amp\;extragetparams=%7B%22directed_target_id%22%3A1789809377919519%7D" href="https://www.facebook.com/IndustrialRevolutionEatery/" style="color: rgb(54\, 88\, 153)\; cursor: pointer\; text-decoration: none\; font-family: helvetica\, arial\, sans-serif\; font-size: 14px\; line-height: 18.76px\;">Industrial Revolution Eatery &amp\; Grille</a><span style="color: rgb(75\, 79\, 86)\; font-family: helvetica\, arial\, sans-serif\; font-size: 14px\; line-height: 18.76px\;">&nbsp\;owner Mike Leeson.</span><br style="color: rgb(75\, 79\, 86)\; font-family: helvetica\, arial\, sans-serif\; font-size: 14px\; line-height: 18.76px\;" />\n<br style="color: rgb(75\, 79\, 86)\; font-family: helvetica\, arial\, sans-serif\; font-size: 14px\; line-height: 18.76px\;" />\n<span style="color: rgb(75\, 79\, 86)\; font-family: helvetica\, arial\, sans-serif\; font-size: 14px\; line-height: 18.76px\;">Proceeds from this year&#39\;s event will be awarded to three outstanding nonprofits via a completely unique&nbsp\;</span><a class="_58cn" data-ft="{&quot\;tn&quot\;:&quot\;*N&quot\;\,&quot\;type&quot\;:104}" href="https://www.facebook.com/hashtag/goodlifepitch" style="color: rgb(54\, 88\, 153)\; cursor: pointer\; text-decoration: none\; font-family: helvetica\, arial\, sans-serif\; font-size: 14px\; line-height: 18.76px\;">#GoodLifePitch</a><span style="color: rgb(75\, 79\, 86)\; font-family: helvetica\, arial\, sans-serif\; font-size: 14px\; line-height: 18.76px\;">&nbsp\;element that has been added to this year&rsquo\;s event to help many great o</span><span class="text_exposed_show" style="display: inline\; color: rgb(75\, 79\, 86)\; font-family: helvetica\, arial\, sans-serif\; font-size: 14px\; line-height: 18.76px\;">rganizations share their stories.&nbsp\;<br />\n<br />\nIn the past\, non-profit organizations receiving the night&rsquo\;s proceeds were determined before the event took place. This year\, the big decision will be made the very night of our event. #GoodLifePitch applications are available here:&nbsp\;<a href="http://valpolife.com/home/joomlife/joomlife.com/images/PDF/Pitch-Whats-Good-Form.pdf" rel="nofollow nofollow" style="color: rgb(54\, 88\, 153)\; cursor: pointer\; text-decoration: none\;" target="_blank">http://valpolife.com/home/<wbr />joomlife/joomlife.com/<wbr />images/PDF/<wbr />Pitch-Whats-Good-Form.pdf</a>&nbsp\;-- as well as at the Good Life Awards for you to turn in that night. Whether you are a contributor\, admirer\, employee\, or CEO of a community organization\, or have been blessed by one\, we want your pitch! Tell us why an organization that you have a passion for deserves the proceeds and our team will carefully read through all of the submissions that night\, choosing three outstanding pitches. Just remember\, you have to attend the 2016 Good Life Awards event to enter!<br />\n<br />\nWe hope you will join us for this year&#39\;s festivities! Check out last year&#39\;s party here!&nbsp\;<br />\n<a href="http://www.nwindianalife.com/business/staff-development/55258-2015-good-life-awards-brought-recognition-and-applause-to-nwi-s-most-positive-people" rel="nofollow nofollow" style="color: rgb(54\, 88\, 153)\; cursor: pointer\; text-decoration: none\;" target="_blank">http://<wbr />www.nwindianalife.com/<wbr />business/staff-development/<wbr />55258-2015-good-life-awards<wbr />-brought-recognition-and-a<wbr />pplause-to-nwi-s-most-posi<wbr />tive-people</a><br />\n*Note: This is a 21 and over event.</span>
LOCATION:Blue Chip Casino 777 Blue Chip Drive Michigan City
UID:e.1949.2584
SEQUENCE:3
DTSTAMP:20260426T003546Z
URL:https://members.laportepartnership.com/events/details/5th-annual-good-life-awards-08-11-2016-2584
END:VEVENT

END:VCALENDAR
