BEGIN:VCALENDAR
VERSION:2.0
PRODID:-//ChamberMaster//Event Calendar 2.0//EN
METHOD:PUBLISH
X-PUBLISHED-TTL:P3D
REFRESH-INTERVAL:P3D
CALSCALE:GREGORIAN
BEGIN:VEVENT
DTSTART:20180929T140000Z
DTEND:20180929T200000Z
X-MICROSOFT-CDO-ALLDAYEVENT:FALSE
SUMMARY:5th Annual UMW Fall Arts & Crafts Show
DESCRIPTION:5th Annual UMW Arts & Crafts Show The United Methodist Women of the First United Methodist Church in LaPorte\, IN will be hosting their 5th annual Arts & Crafts Show on Saturday\, September 29\, from 9:00 a.m. to 3:00 p.m. (CDT) at the LaPorte County Fairgrounds on State Rd. 2 in LaPorte. This event features 100 artists and crafters from Indiana\, Michigan and Illinois who specialize in making unique\, hand-crafted items. Vendor booths are inside so visitors can do their shopping in comfort without worrying about the weather. Buildings are handicapped accessible and there is ample parking. This show has something for everyone. You'll find inside home d cor items\, outside yard ornamentation\, original artwork\, sports-oriented items\, floral arrangements\, hand-turned wooden creations\, accessories for adults and children\, hand-crafted furniture\, pet accessories\, country and farmhouse d cor\, baskets\, hand-carved gourds\, rustic signs\, and much more. Also\, both fall and Christmas decorations will be showcased. Tasty desserts and lunch will be available for purchase. You don't want to miss this event. For more information call 219-362-2443.
X-ALT-DESC;FMTTYPE=text/html:5th Annual UMW Arts &amp\; Crafts Show The United Methodist Women of the First United Methodist Church in LaPorte\, IN will be hosting their 5th annual Arts &amp\; Crafts Show on Saturday\, September 29\, from 9:00 a.m. to 3:00 p.m. (CDT) at the LaPorte County Fairgrounds on State Rd. 2 in LaPorte. This event features 100 artists and crafters from Indiana\, Michigan and Illinois who specialize in making unique\, hand-crafted items. Vendor booths are inside so visitors can do their shopping in comfort without worrying about the weather. Buildings are handicapped accessible and there is ample parking. This show has something for everyone. You&#39\;ll find inside home d&eacute\;cor items\, outside yard ornamentation\, original artwork\, sports-oriented items\, floral arrangements\, hand-turned wooden creations\, accessories for adults and children\, hand-crafted furniture\, pet accessories\, country and farmhouse d&eacute\;cor\, baskets\, hand-carved gourds\, rustic signs\, and much more. Also\, both fall and Christmas decorations will be showcased. Tasty desserts and lunch will be available for purchase. You don&#39\;t want to miss this event. For more information call 219-362-2443.
LOCATION:LaPorte County Fairgrounds 2581 W. State Rd. 2 LaPorte\, IN
UID:e.1949.4123
SEQUENCE:3
DTSTAMP:20260424T054804Z
URL:https://members.laportepartnership.com/events/details/5th-annual-umw-fall-arts-crafts-show-4123
END:VEVENT

END:VCALENDAR
