BEGIN:VCALENDAR
VERSION:2.0
PRODID:-//ChamberMaster//Event Calendar 2.0//EN
METHOD:PUBLISH
X-PUBLISHED-TTL:P3D
REFRESH-INTERVAL:P3D
CALSCALE:GREGORIAN
BEGIN:VEVENT
DTSTART:20180630T163000Z
DTEND:20180701T030000Z
X-MICROSOFT-CDO-ALLDAYEVENT:FALSE
SUMMARY:6th Annual Corsets\, Whips\, & Whiskey Celebration!
DESCRIPTION:Join Journeyman Distillery on Saturday\, June 30th from 11:30am 10pm (EDT) for it's 6th annual summer party Corsets\, Whips & Whiskey celebration.\n\nAn event named after the items produced throughout the years in the historic Featherbone Factory\, now home to Journeyman Distillery. \n\nThis is an outdoor celebration featuring live music by Katie Hibben (11:30am 1:30pm)\, Robert Rolfe Feddersen (1:45 3:45pm)\, Laura Joy (5:30 7:30pm)\, & The Benedict DollyRockers (8:00 10:00pm). As well as\, Journeyman craft cocktails\, cookout menu\, games\, and the seasonal bottle release of Corsets\, Whips & Whiskey.\n\nGuests can play cornhole\, putt on our 18 hole putting course and participate for prizes in the longest putt competition on Journeyman's newest addition   Welter's Folly Putting Green. \n\nThis event is kid friendly\, as well as pet friendly. Bring the whole family for a day of fun!
X-ALT-DESC;FMTTYPE=text/html:<p>Join Journeyman Distillery on&nbsp\;Saturday\, June 30th from 11:30am&ndash\;10pm (EDT)&nbsp\;for it&#39\;s 6th annual summer party Corsets\, Whips &amp\; Whiskey celebration.</p>\n\n<p>An event named after the items produced throughout the years in the historic Featherbone Factory\, now home to Journeyman Distillery.&nbsp\;</p>\n\n<p>This is an outdoor celebration featuring live music by&nbsp\;Katie Hibben (11:30am&ndash\;1:30pm)\, Robert Rolfe Feddersen (1:45&ndash\;3:45pm)\,&nbsp\;Laura Joy (5:30&ndash\;7:30pm)\, &amp\; The Benedict DollyRockers (8:00&ndash\;10:00pm). As well as\, Journeyman craft cocktails\, cookout menu\, games\, and the seasonal bottle release of Corsets\, Whips &amp\; Whiskey.</p>\n\n<p>Guests can play cornhole\,&nbsp\;putt on our 18 hole putting course and&nbsp\;participate&nbsp\;for prizes&nbsp\;in the longest putt competition on&nbsp\;Journeyman&#39\;s newest addition &ndash\;&nbsp\;Welter&#39\;s Folly Putting Green.&nbsp\;</p>\n\n<p>This event is&nbsp\;kid&nbsp\;friendly\, as well as pet friendly. Bring the whole family for a day of fun!</p>\n
LOCATION:Journeyman Distillery 109 Generation Dr\, Three Oaks\, MI 49128
UID:e.1949.4191
SEQUENCE:3
DTSTAMP:20260424T102736Z
URL:https://members.laportepartnership.com/events/details/6th-annual-corsets-whips-whiskey-celebration-4191
END:VEVENT

END:VCALENDAR
