BEGIN:VCALENDAR
VERSION:2.0
PRODID:-//ChamberMaster//Event Calendar 2.0//EN
METHOD:PUBLISH
X-PUBLISHED-TTL:P3D
REFRESH-INTERVAL:P3D
CALSCALE:GREGORIAN
BEGIN:VEVENT
DTSTART:20171109T000000Z
DTEND:20171109T030000Z
X-MICROSOFT-CDO-ALLDAYEVENT:FALSE
SUMMARY:6th Annual Good Life Awards
DESCRIPTION:The 6th annual Good Life Awards party is here! Six really good people who have impacted LIFE in a very positive way will be honored on Wednesday\, November 8th with a solid steel award custom designed by Mike Leeson of Industrial Revolution.\n\n \n\nThree non-profit organizations will be chosen the very night of our event to receive a full year-long marketing campaign on the Life networks to drive their message and campaigns\, voted on by our very own Good Life attendees. The #Vote4Good contest will happen during the evening of the Good Life Awards and all attendees will be able to vote for their favorite non-profit group. Whether you are a community leader\, humanitarian\, admirer\, an employee\, or have been blessed by one\, we want your vote! Just remember\, you must attend the 2017 Good Life Awards to vote!\n\n \n\n$50 ticket purchase includes open bar with beer and wine.
X-ALT-DESC;FMTTYPE=text/html:<span style="color:black\;"><span style="font-family:calibri\,sans-serif\;">The 6th annual Good Life Awards party is here! Six really good people who have impacted LIFE in a very positive way will be honored on Wednesday\, November 8th with a solid steel award custom designed by Mike Leeson of Industrial Revolution.</span></span><br />\n&nbsp\;<br />\n<span style="color:black\;"><span style="font-family:calibri\,sans-serif\;">Three non-profit organizations will be chosen the very night of our event to receive a full year-long marketing campaign on the Life networks to drive their message and campaigns\, voted on by our very own Good Life attendees. The #Vote4Good contest will happen during the evening of the Good Life Awards and all attendees will be able to vote for their favorite non-profit group. Whether you are a community leader\, humanitarian\, admirer\, an employee\, or have been blessed by one\, we want your vote! Just remember\, you must attend the 2017 Good Life Awards to vote!</span></span><br />\n&nbsp\;<br />\n<span style="color:black\;"><span style="font-family:calibri\,sans-serif\;">$50 ticket purchase includes open bar with beer and wine.</span></span>
LOCATION:Sand Creek Country Club 1001 Sand Creek Drive Chesterton
UID:e.1949.2907
SEQUENCE:3
DTSTAMP:20260424T225743Z
URL:https://members.laportepartnership.com/events/details/6th-annual-good-life-awards-2907
END:VEVENT

END:VCALENDAR
