BEGIN:VCALENDAR
VERSION:2.0
PRODID:-//ChamberMaster//Event Calendar 2.0//EN
METHOD:PUBLISH
X-PUBLISHED-TTL:P3D
REFRESH-INTERVAL:P3D
CALSCALE:GREGORIAN
BEGIN:VEVENT
DTSTART:20180704T150000Z
DTEND:20180704T180000Z
X-MICROSOFT-CDO-ALLDAYEVENT:FALSE
SUMMARY:72nd Annual La Porte Jaycees 4th of July Parade
DESCRIPTION:Join the La Porte Jaycees for the 72nd Annual Celebration of the 4th of July in La Porte! This year's theme is Let Freedom Ring!\n\n\n\nThe parade will be held on Wednesday\, July 4\, 2018 and will travel down Lincolnway (Hwy 2). The parade will begin at 10:00 am and will last approximately 2-3 hours. \n\n\n\nIf you would like to have an entry in the parade\, please visit our website here: http://laportejaycees.org/4th/paradeentries/\n\nApplication Fee of $35 due at time of Application Submission\n\nCommercial Entries are $250.00
X-ALT-DESC;FMTTYPE=text/html:<span style="color: rgb(29\, 33\, 41)\; font-family: Helvetica\, Arial\, sans-serif\; font-size: 14px\;">Join the&nbsp\;</span><a href="https://www.facebook.com/LaPorte.Jaycees/" style="color: rgb(54\, 88\, 153)\; cursor: pointer\; text-decoration-line: none\; font-family: Helvetica\, Arial\, sans-serif\; font-size: 14px\;" target="_blank">La Porte Jaycees</a><span style="color: rgb(29\, 33\, 41)\; font-family: Helvetica\, Arial\, sans-serif\; font-size: 14px\;">&nbsp\;for the 72nd Annual Celebration of the 4th of July in La Porte! This year&#39\;s theme is Let Freedom Ring!</span><br style="color: rgb(29\, 33\, 41)\; font-family: Helvetica\, Arial\, sans-serif\; font-size: 14px\;" />\n<br style="color: rgb(29\, 33\, 41)\; font-family: Helvetica\, Arial\, sans-serif\; font-size: 14px\;" />\n<span style="color: rgb(29\, 33\, 41)\; font-family: Helvetica\, Arial\, sans-serif\; font-size: 14px\;">The parade will be held on Wednesday\, July 4\, 2018 and will travel down Lincolnway (Hwy 2). The parade will begin at 10:00 am and will last approximately 2-3 hours.&nbsp\;</span><br style="color: rgb(29\, 33\, 41)\; font-family: Helvetica\, Arial\, sans-serif\; font-size: 14px\;" />\n<br style="color: rgb(29\, 33\, 41)\; font-family: Helvetica\, Arial\, sans-serif\; font-size: 14px\;" />\n<span style="color: rgb(29\, 33\, 41)\; font-family: Helvetica\, Arial\, sans-serif\; font-size: 14px\;">If you would like to have an entry in the parade\, please visit our website here:&nbsp\;</span><a href="https://l.facebook.com/l.php?u=http%3A%2F%2Flaportejaycees.org%2F4th%2Fparadeentries%2F&amp\;h=ATP8UsR0NU24M170e1o2GgGHKUnoAdPoAYTP_2Is4crk9BCFhLNyWUIOmxk3BLawK_EATvYv00JEz5xSJtBbHRjxtah4avh0kqDOj5mkCLl6LJfz&amp\;s=1" style="color: rgb(54\, 88\, 153)\; cursor: pointer\; text-decoration-line: none\; font-family: Helvetica\, Arial\, sans-serif\; font-size: 14px\;" target="_blank">http://laportejaycees.org/4th/paradeentries/</a><br style="color: rgb(29\, 33\, 41)\; font-family: Helvetica\, Arial\, sans-serif\; font-size: 14px\;" />\n<span style="color: rgb(29\, 33\, 41)\; font-family: Helvetica\, Arial\, sans-serif\; font-size: 14px\;">Application Fee of $35 due at time of Application Submission</span><br style="color: rgb(29\, 33\, 41)\; font-family: Helvetica\, Arial\, sans-serif\; font-size: 14px\;" />\n<span style="color: rgb(29\, 33\, 41)\; font-family: Helvetica\, Arial\, sans-serif\; font-size: 14px\;">Commercial Entries are $250.00</span>
LOCATION:Downtown La Porte Along Lincolnway between Tipton Street to Andrew Avenue
UID:e.1949.4179
SEQUENCE:3
DTSTAMP:20260424T072036Z
URL:https://members.laportepartnership.com/events/details/72nd-annual-la-porte-jaycees-4th-of-july-parade-4179
END:VEVENT

END:VCALENDAR
