BEGIN:VCALENDAR
VERSION:2.0
PRODID:-//ChamberMaster//Event Calendar 2.0//EN
METHOD:PUBLISH
X-PUBLISHED-TTL:P3D
REFRESH-INTERVAL:P3D
CALSCALE:GREGORIAN
BEGIN:VEVENT
DTSTART:20171216T010000Z
DTEND:20171216T030000Z
X-MICROSOFT-CDO-ALLDAYEVENT:FALSE
SUMMARY:7th Annual Bowling Bash- Leadership La Porte County
DESCRIPTION:Whether you are a serious bowler\, or just ready for a fun evening\, come out and join us - socialize\, compete\, have fun and score some great door prizes!\n\n\n\nThe top scoring team will be named champs\, prizes for best team attire and more.\n\n\n\nTeam registration include 3 games of bowling\, shoes\, pizza and soft drinks for 4 bowlers.\n\n\n\n" Adult" beverages will also be available for purchase that evening.\n\n \n\nClick on the link below to register your team! Individual sign ups are available as well and we'll match you with a team.
X-ALT-DESC;FMTTYPE=text/html:<strong><span style="color:#BDBEAE\;"><span style="font-family:arial\,sans-serif\;"><span style="font-size:10.0pt\;">Whether you are a serious bowler\, or just ready for a fun evening\, come out and join us - socialize\, compete\, have fun and score some great door prizes!</span></span></span></strong><br />\n<br />\n<span style="color:#BDBEAE\;"><span style="font-family:arial\,sans-serif\;"><span style="font-size:10.0pt\;">The top scoring team will be named champs\, prizes for best team attire and more.<br />\n<br />\n<strong>Team registration include 3 games of bowling\, shoes\, pizza and soft drinks for 4 bowlers.</strong><br />\n<br />\n&quot\; Adult&quot\; beverages will also be available for purchase that evening.</span></span></span><br />\n&nbsp\;<br />\n<span style="color:#BDBEAE\;"><span style="font-family:arial\,sans-serif\;"><span style="font-size:10.0pt\;">Click on the link below to register your team! Individual sign ups are available as well and we&#39\;ll match you with a team.</span></span></span>
LOCATION:Thunderbird Bowling Lanes 1251 Pine Lake Avenue
UID:e.1949.2948
SEQUENCE:3
DTSTAMP:20260424T193324Z
URL:https://members.laportepartnership.com/events/details/7th-annual-bowling-bash-leadership-la-porte-county-2948
END:VEVENT

END:VCALENDAR
