BEGIN:VCALENDAR
VERSION:2.0
PRODID:-//ChamberMaster//Event Calendar 2.0//EN
METHOD:PUBLISH
X-PUBLISHED-TTL:P3D
REFRESH-INTERVAL:P3D
CALSCALE:GREGORIAN
BEGIN:VEVENT
DTSTART:20180505T160000Z
DTEND:20180505T220000Z
X-MICROSOFT-CDO-ALLDAYEVENT:FALSE
SUMMARY:8th Annual Blue Chip Brewfest
DESCRIPTION:8TH ANNUAL BLUE CHIP BREWFEST\nTICKETS ON SALE NOW!MAY 5\, 2018PARKING STRUCTURE: FIRST FLOORTICKETS FROM $15\n\n\n\nLocation: Blue Chip 1st Floor Parking Garage\n\n\n\nDJ Entertainment\n\n\n\nTickets on sale now at Ticketmaster.com or the Blue Chip Gift Box.\n\n\n\nBrewmaster | $99\n\n11:30am - 12:30pm\n\nIncludes luncheon with Josh Deth\, owner of Revolution Brewing\, in the Orleans Ballroom from 11:30am to 12:30pm\, access to VIP session\, pint glass\, t-shirt and early entrance at 1:00pm.\n\n\n\nVIP Session | $75\n\nNoon - 2:00pm\n\nIncludes access to additional beers\, such as Upland\, in the Sam's Town Ballroom from Noon to 2:00pm\, pint glass and early entrance at 1:00pm.\n\n\n\nGeneral Admission | $45\n\n1:30pm - 5:00pm\n\nIncludes pint glass.\n\n\n\nDesignated Driver | $15\n\n1:30pm - 5:00pm\n\nIncludes complimentary specialty soda & water.\n\nTickets from $15
X-ALT-DESC;FMTTYPE=text/html:<div background-color:="" class="event_detail_content" font-size:="" open="" style="box-sizing: border-box\; margin: 0px 0px 3em\; padding: 0px\; color: rgb(10\, 10\, 10)\; font-family: ">\n<h1 style="box-sizing: border-box\; margin: 10px 0px\; padding: 0px\; font-size: 35px\; font-family: Oswald\, sans-serif\; font-weight: 700\; color: rgb(8\, 31\, 63)\; text-rendering: optimizeLegibility\; line-height: 1.4\; -webkit-font-smoothing: antialiased\; text-transform: uppercase\; background-color: rgb(254\, 254\, 254)\;">8TH ANNUAL BLUE CHIP BREWFEST</h1>\n<span class="subtitle" style="box-sizing: border-box\; margin: -10px 0px 10px\; padding: 0px\; -webkit-font-smoothing: antialiased\; font-family: &quot\;Open Sans&quot\;\, sans-serif\; text-transform: uppercase\; font-weight: 700\; font-size: 19px\; display: block\; color: rgb(0\, 69\, 124)\; background-color: rgb(254\, 254\, 254)\;">TICKETS ON SALE NOW!</span><span class="event_detail date" style="box-sizing: border-box\; margin: 0px\; padding: 5px 0px 5px 40px\; display: block\; text-transform: uppercase\; color: rgb(0\, 0\, 0)\; font-size: 0.9em\; font-weight: 700\; position: relative\; border-top: none\; font-family: &quot\;Open Sans&quot\;\, sans-serif\;"><span style="box-sizing: border-box\; margin: 0px\; padding: 0px\; display: inline-block\;">MAY 5\, </span></span><span class="event_detail date" style="box-sizing: border-box\; margin: 0px\; padding: 5px 0px 5px 40px\; display: block\; text-transform: uppercase\; color: rgb(0\, 0\, 0)\; font-size: 0.9em\; font-weight: 700\; position: relative\; border-top: none\; font-family: &quot\;Open Sans&quot\;\, sans-serif\;"><span style="box-sizing: border-box\; margin: 0px\; padding: 0px\; display: inline-block\;">2018</span></span><span class="event_detail location" style="box-sizing: border-box\; margin: 0px\; padding: 5px 0px 5px 40px\; display: block\; text-transform: uppercase\; color: rgb(0\, 0\, 0)\; font-size: 0.9em\; font-weight: 700\; position: relative\; border-top: 1px dotted rgb(158\, 158\, 158)\; font-family: &quot\;Open Sans&quot\;\, sans-serif\;"><span style="box-sizing: border-box\; margin: 0px\; padding: 0px\; display: inline-block\;"><a data-location-id="86423" href="https://www.bluechipcasino.com/parking-structure-first-floor" style="box-sizing: border-box\; margin: 0px\; padding: 0px\; background-color: transparent\; line-height: inherit\; color: rgb(0\, 69\, 124)\; cursor: pointer\; width: 100%\; border-radius: 0px\;">PARKING</a></span></span><span class="event_detail location" style="box-sizing: border-box\; margin: 0px\; padding: 5px 0px 5px 40px\; display: block\; text-transform: uppercase\; color: rgb(0\, 0\, 0)\; font-size: 0.9em\; font-weight: 700\; position: relative\; border-top: 1px dotted rgb(158\, 158\, 158)\; font-family: &quot\;Open Sans&quot\;\, sans-serif\;"><span style="box-sizing: border-box\; margin: 0px\; padding: 0px\; display: inline-block\;"><a data-location-id="86423" href="https://www.bluechipcasino.com/parking-structure-first-floor" style="box-sizing: border-box\; margin: 0px\; padding: 0px\; background-color: transparent\; line-height: inherit\; color: rgb(0\, 69\, 124)\; cursor: pointer\; width: 100%\; border-radius: 0px\;"> STRUCTURE: FIRST </a></span></span><span class="event_detail location" style="box-sizing: border-box\; margin: 0px\; padding: 5px 0px 5px 40px\; display: block\; text-transform: uppercase\; color: rgb(0\, 0\, 0)\; font-size: 0.9em\; font-weight: 700\; position: relative\; border-top: 1px dotted rgb(158\, 158\, 158)\; font-family: &quot\;Open Sans&quot\;\, sans-serif\;"><span style="box-sizing: border-box\; margin: 0px\; padding: 0px\; display: inline-block\;"><a data-location-id="86423" href="https://www.bluechipcasino.com/parking-structure-first-floor" style="box-sizing: border-box\; margin: 0px\; padding: 0px\; background-color: transparent\; line-height: inherit\; color: rgb(0\, 69\, 124)\; cursor: pointer\; width: 100%\; border-radius: 0px\;">FLOOR</a></span></span><span class="event_detail cost" style="box-sizing: border-box\; margin: 0px\; padding: 5px 0px 5px 40px\; display: block\; text-transform: uppercase\; color: rgb(0\, 0\, 0)\; font-size: 0.9em\; font-weight: 700\; position: relative\; border-top: 1px dotted rgb(158\, 158\, 158)\; font-family: &quot\;Open Sans&quot\;\, sans-serif\;">TICKETS</span><span class="event_detail cost" style="box-sizing: border-box\; margin: 0px\; padding: 5px 0px 5px 40px\; display: block\; text-transform: uppercase\; color: rgb(0\, 0\, 0)\; font-size: 0.9em\; font-weight: 700\; position: relative\; border-top: 1px dotted rgb(158\, 158\, 158)\; font-family: &quot\;Open Sans&quot\;\, sans-serif\;"> FROM $15</span><br />\n<br />\nLocation: Blue Chip 1st Floor Parking Garage<br style="box-sizing: border-box\; margin: 0px\; padding: 0px\;" />\n<br style="box-sizing: border-box\; margin: 0px\; padding: 0px\;" />\nDJ Entertainment<br style="box-sizing: border-box\; margin: 0px\; padding: 0px\;" />\n<br style="box-sizing: border-box\; margin: 0px\; padding: 0px\;" />\nTickets on sale now at Ticketmaster.com or the Blue Chip Gift Box.<br style="box-sizing: border-box\; margin: 0px\; padding: 0px\;" />\n<br style="box-sizing: border-box\; margin: 0px\; padding: 0px\;" />\n<span style="box-sizing: border-box\; margin: 0px\; padding: 0px\; font-weight: 700\; line-height: inherit\;">Brewmaster | $99</span><br style="box-sizing: border-box\; margin: 0px\; padding: 0px\;" />\n11:30am - 12:30pm<br style="box-sizing: border-box\; margin: 0px\; padding: 0px\;" />\nIncludes luncheon with Josh Deth\, owner of Revolution Brewing\, in the Orleans Ballroom from 11:30am to 12:30pm\, access to VIP session\, pint glass\, t-shirt and early entrance at 1:00pm.<br style="box-sizing: border-box\; margin: 0px\; padding: 0px\;" />\n<br style="box-sizing: border-box\; margin: 0px\; padding: 0px\;" />\n<span style="box-sizing: border-box\; margin: 0px\; padding: 0px\; font-weight: 700\; line-height: inherit\;">VIP Session | $75</span><br style="box-sizing: border-box\; margin: 0px\; padding: 0px\;" />\nNoon - 2:00pm<br style="box-sizing: border-box\; margin: 0px\; padding: 0px\;" />\nIncludes access to additional beers\, such as Upland\, in the Sam&#39\;s Town Ballroom from Noon to 2:00pm\,&nbsp\;pint glass and early entrance at 1:00pm.<br style="box-sizing: border-box\; margin: 0px\; padding: 0px\;" />\n<br style="box-sizing: border-box\; margin: 0px\; padding: 0px\;" />\n<span style="box-sizing: border-box\; margin: 0px\; padding: 0px\; font-weight: 700\; line-height: inherit\;">General Admission | $45</span><br style="box-sizing: border-box\; margin: 0px\; padding: 0px\;" />\n1:30pm - 5:00pm<br style="box-sizing: border-box\; margin: 0px\; padding: 0px\;" />\nIncludes pint glass.<br style="box-sizing: border-box\; margin: 0px\; padding: 0px\;" />\n<br style="box-sizing: border-box\; margin: 0px\; padding: 0px\;" />\n<span style="box-sizing: border-box\; margin: 0px\; padding: 0px\; font-weight: 700\; line-height: inherit\;">Designated Driver | $15</span><br style="box-sizing: border-box\; margin: 0px\; padding: 0px\;" />\n1:30pm - 5:00pm<br style="box-sizing: border-box\; margin: 0px\; padding: 0px\;" />\nIncludes complimentary specialty soda &amp\; water.<br style="box-sizing: border-box\; margin: 0px\; padding: 0px\;" />\nTickets from $15</div>\n
LOCATION:Blue Chip 1st Floor Parking Garage 777 Blue Chip Drive Michigan City
UID:e.1949.4126
SEQUENCE:3
DTSTAMP:20260424T115359Z
URL:https://members.laportepartnership.com/events/details/8th-annual-blue-chip-brewfest-4126
END:VEVENT

END:VCALENDAR
