BEGIN:VCALENDAR
VERSION:2.0
PRODID:-//ChamberMaster//Event Calendar 2.0//EN
METHOD:PUBLISH
X-PUBLISHED-TTL:P3D
REFRESH-INTERVAL:P3D
CALSCALE:GREGORIAN
BEGIN:VEVENT
DTSTART:20180512T133000Z
DTEND:20180512T183000Z
X-MICROSOFT-CDO-ALLDAYEVENT:FALSE
SUMMARY:8th Annual Mother's Day Flower Sale
DESCRIPTION:Come out to our 8th annual Mother's Day Flower Sale from 8:30 a.m.-1:30 p.m. (or until sold out) Saturday\, May 12\, at the South Pavilion at Kiwanis-Teldyne Park (Next to Blue Heron Inn). Purchase your hanging baskets\, patio tomato and/or patio geraniums. They are always beautiful! Mom will love them ... and so will you!  Flowers were grown locally at Perennials Galore. All proceeds benefit our efforts in helping maintain Kiwanis-Teledyne Park.
X-ALT-DESC;FMTTYPE=text/html:<div class="_5pbx userContent _3576" data-ft="{&quot\;tn&quot\;:&quot\;K&quot\;}" id="js_1zo" style="font-size: 14px\; line-height: 1.38\; margin-top: 6px\; font-family: Helvetica\, Arial\, sans-serif\; color: rgb(29\, 33\, 41)\;">\n<p style="margin: 0px\; display: inline\; font-family: inherit\;">Come out to our 8th annual Mother&#39\;s Day Flower Sale from 8:30 a.m.-1:30 p.m. (or until sold out) Saturday\, May 12\, at the South Pavilion at&nbsp\;Kiwanis-Teldyne Park (Next to Blue Heron Inn). Purchase your hanging baskets\, patio tomato and/or patio geraniums. They are always beautiful! Mom will love them ... and so will you!&nbsp\; Flowers were grown locally at Perennials Galore. All proceeds benefit our efforts in helping maintain Kiwanis-Teledyne Park.</p>\n</div>\n
LOCATION:South Pavilion at Kiwanis Park (Next to Blue Heron Inn)
UID:e.1949.4149
SEQUENCE:3
DTSTAMP:20260424T115901Z
URL:https://members.laportepartnership.com/events/details/8th-annual-mother-s-day-flower-sale-4149
END:VEVENT

END:VCALENDAR
