BEGIN:VCALENDAR
VERSION:2.0
PRODID:-//ChamberMaster//Event Calendar 2.0//EN
METHOD:PUBLISH
X-PUBLISHED-TTL:P3D
REFRESH-INTERVAL:P3D
CALSCALE:GREGORIAN
BEGIN:VEVENT
DTSTART:20170429T150000Z
DTEND:20170429T170000Z
X-MICROSOFT-CDO-ALLDAYEVENT:FALSE
SUMMARY:8th Annual Purdue Federal Credit Union Shred Day
DESCRIPTION:Purdue Federal Credit Union (Purdue Federal) will host its eighth annual Community Shred Day from 10 a.m. to Noon\, on Saturday\, April 29.\, at its Monroe Street Branch located at 3404 Monroe Street in LaPorte.\n\nThe public is invited to bring confidential documents including old bills\, tax forms and more to be securely and professionally shredded. Staples and paper clips may be left on the documents. Shredding services are free.\n\nIndividuals with questions may contact a Purdue Federal representative at 765.497.3328 or 800.627.3328\, or visit purduefed.com.\n\nAbout Purdue Federal\n\nPurdue Federal Credit Union (Purdue Federal) was founded as Purdue Employees Federal Credit Union (PEFCU) on the Purdue University campus in 1969. In December 2010\, PEFCU acquired Members United Federal Credit Union through a merger. At the time of merger\, the credit union changed its name to Purdue Federal to better reflect its membership base\, which includes students\, faculty and staff\, and communities where Purdue University and its regional campuses operate. Purdue Federal is a member-owned financial cooperative with more than 71\,000 members nationwide and assets at more than $1 billion.
X-ALT-DESC;FMTTYPE=text/html:<p style="padding: 0px\; line-height: 24px\; font-size: 16px\; margin: 0px 0px 16px\; box-sizing: border-box\; color: rgb(66\, 66\, 66)\; font-family: quattrocento\, roboto\, sans-serif !important\;">Purdue Federal Credit Union (Purdue Federal) will host its eighth annual Community Shred Day from 10 a.m. to Noon\, on Saturday\, April 29.\, at its Monroe Street Branch located at 3404 Monroe Street in LaPorte.</p>\n\n<p style="padding: 0px\; line-height: 24px\; font-size: 16px\; margin: 0px 0px 16px\; box-sizing: border-box\; color: rgb(66\, 66\, 66)\; font-family: quattrocento\, roboto\, sans-serif !important\;">The public is invited to bring confidential documents including old bills\, tax forms and more to be securely and professionally shredded. Staples and paper clips may be left on the documents. Shredding services are free.</p>\n\n<p style="padding: 0px\; line-height: 24px\; font-size: 16px\; margin: 0px 0px 16px\; box-sizing: border-box\; color: rgb(66\, 66\, 66)\; font-family: quattrocento\, roboto\, sans-serif !important\;">Individuals with questions may contact a Purdue Federal representative at 765.497.3328 or 800.627.3328\, or visit&nbsp\;<a href="https://www.purduefed.com/" style="-webkit-tap-highlight-color: rgba(255\, 255\, 255\, 0)\; color: rgb(59\, 64\, 170)\; text-decoration-line: none\; box-sizing: border-box\;" target="_blank">purduefed.com</a>.</p>\n\n<p style="padding: 0px\; line-height: 24px\; font-size: 16px\; margin: 0px 0px 16px\; box-sizing: border-box\; color: rgb(66\, 66\, 66)\; font-family: quattrocento\, roboto\, sans-serif !important\;"><strong style="box-sizing: border-box\;">About Purdue Federal</strong><br style="box-sizing: border-box\;" />\nPurdue Federal Credit Union (Purdue Federal) was founded as Purdue Employees Federal Credit Union (PEFCU) on the Purdue University campus in 1969. In December 2010\, PEFCU acquired Members United Federal Credit Union through a merger. At the time of merger\, the credit union changed its name to Purdue Federal to better reflect its membership base\, which includes students\, faculty and staff\, and communities where Purdue University and its regional campuses operate. Purdue Federal is a member-owned financial cooperative with more than 71\,000 members nationwide and assets at more than $1 billion.</p>\n
LOCATION:Purdue Federal Credit Union 3404 Monroe Street La Porte
UID:e.1949.2770
SEQUENCE:3
DTSTAMP:20260425T114949Z
URL:https://members.laportepartnership.com/events/details/8th-annual-purdue-federal-credit-union-shred-day-2770
END:VEVENT

END:VCALENDAR
