BEGIN:VCALENDAR
VERSION:2.0
PRODID:-//ChamberMaster//Event Calendar 2.0//EN
METHOD:PUBLISH
X-PUBLISHED-TTL:P3D
REFRESH-INTERVAL:P3D
CALSCALE:GREGORIAN
BEGIN:VEVENT
DTSTART:20170408T163000Z
DTEND:20170408T200000Z
X-MICROSOFT-CDO-ALLDAYEVENT:FALSE
SUMMARY:9th Annual Bowl for Worthy Women
DESCRIPTION:Join Worthy Women Recovery Home for the 9th Annual Bowl for Worthy Women at Casey's Lanes\, 610 Colfax Avenue in La Porte. The event will take place on April 8 from 12 p.m.-3 p.m. with registration beginning at 11:30 a.m. Purple T-shirts are available for $15 each but must be prepaid. You may pay online at www.worthyrecovery.org or call Sonshine at 219.405.7006. $100 per Team(6 max) Lane reserved with $100 minimum pre-registration paid. Goes toward total pledges/donations. \n\nTraveling trophy & prizes to registered team with most pledges. \n\nDeadline to turn in pledges is April 7\, 2017. \n\n\n\n$15 per Individual Bowler. Prizes for individual bowler with most pledges. Prizes and awards for 2nd place most donations\, 2nd place high score\, individual 2nd place most donations\, 2nd individual high score\, low score. \n\nYou can pay for bowling at the event if you do not plan to raise pledges/donations.\n\nWe will have T-shirts for sale at $15 each. First 50 Bowlers who register and pay for T's. (We have to prepay) Sizes small - 2xxl
X-ALT-DESC;FMTTYPE=text/html:Join Worthy Women Recovery Home for the 9th Annual Bowl for Worthy Women at Casey&#39\;s Lanes\, 610 Colfax Avenue in La Porte. The event will take place on April 8 from 12 p.m.-3 p.m. with registration beginning at 11:30 a.m. Purple T-shirts are available for $15 each but must be prepaid. You may pay online at www.worthyrecovery.org or call Sonshine at 219.405.7006.&nbsp\;<span style="color: rgb(75\, 79\, 86)\; font-family: Helvetica\, Arial\, sans-serif\; font-size: 14px\;">$100 per Team(6 max) Lane reserved with $100 minimum pre-registration paid. Goes toward total&nbsp\;</span><span class="text_exposed_show" style="display: inline\; font-family: Helvetica\, Arial\, sans-serif\; color: rgb(75\, 79\, 86)\; font-size: 14px\;">pledges/donations.&nbsp\;<br />\nTraveling trophy &amp\; prizes to registered team with most pledges.&nbsp\;<br />\nDeadline to turn in pledges is April 7\, 2017.&nbsp\;<br />\n<br />\n$15 per Individual Bowler. Prizes for individual bowler with most pledges. Prizes and awards for 2nd place most donations\, 2nd place high score\, individual 2nd place most donations\, 2nd individual high score\, low score.&nbsp\;<br />\nYou can pay for bowling at the event if you do not plan to raise pledges/donations.<br />\nWe will have T-shirts for sale at $15 each. First 50 Bowlers who register and pay for T&#39\;s. (We have to prepay) Sizes small - 2xxl</span>
LOCATION:Casey's Lanes 610 Colfax Avenue\, la Porte
UID:e.1949.2760
SEQUENCE:3
DTSTAMP:20260425T114825Z
URL:https://members.laportepartnership.com/events/details/9th-annual-bowl-for-worthy-women-2760
END:VEVENT

END:VCALENDAR
