BEGIN:VCALENDAR
VERSION:2.0
PRODID:-//ChamberMaster//Event Calendar 2.0//EN
METHOD:PUBLISH
X-PUBLISHED-TTL:P3D
REFRESH-INTERVAL:P3D
CALSCALE:GREGORIAN
BEGIN:VEVENT
DTSTART:20171111T000000Z
DTEND:20171111T040000Z
X-MICROSOFT-CDO-ALLDAYEVENT:FALSE
SUMMARY:A Night in the Old West- United Way Fall Gala
DESCRIPTION:Join us for the premier social event of the season! This year's theme is A Night in the Old West\, so let's dress up\, drink up\, eat up and celebrate as we come together to raise money for our United Way! The event will take place on November 10 with doors opening at 6:00 p.m. in the Star Dust Lounge of Blue Chip Casino\, 777 Blue Chip Drive in Michigan City.\n\n\n\nOur fall gala boasts a delicious spread of fabulous food from local restaurant and dessert establishments\, cocktails at several separate open bar locations throughout the event\, and unbelievable live entertainment - this year featuring Ernie Givens and The White Lies Band\, named "Best Independent County Music Group" by On-Line Country and Indie Tracker Magazine.
X-ALT-DESC;FMTTYPE=text/html:<span style="color: rgb(69\, 69\, 69)\; font-family: Arial\, Helvetica\, sans-serif\; font-size: 13.3333px\;">Join us for the premier social event of the season!</span><span style="color: rgb(69\, 69\, 69)\; font-family: Arial\, Helvetica\, sans-serif\; font-size: 13.3333px\;">&nbsp\;This year&#39\;s theme is A Night in the Old West\, so let&#39\;s dress up\, drink up\, eat up and celebrate as we come together to raise money for our United Way! The event will take place on November 10 with doors opening at 6:00 p.m. in the Star Dust Lounge of Blue Chip Casino\, 777 Blue Chip Drive in Michigan City.</span><br style="color: rgb(69\, 69\, 69)\; font-family: Arial\, Helvetica\, sans-serif\; font-size: 13.3333px\;" />\n<br style="color: rgb(69\, 69\, 69)\; font-family: Arial\, Helvetica\, sans-serif\; font-size: 13.3333px\;" />\n<span style="color: rgb(69\, 69\, 69)\; font-family: Arial\, Helvetica\, sans-serif\; font-size: 13.3333px\;">Our fall gala boasts a delicious spread of fabulous food from local restaurant and dessert establishments\, cocktails at several separate open bar locations throughout the event\, and unbelievable live entertainment - this year featuring E</span><span style="color: rgb(69\, 69\, 69)\; font-family: Arial\, Helvetica\, sans-serif\; font-size: 13.3333px\;">rnie Givens and The White Lies Band</span><span style="color: rgb(69\, 69\, 69)\; font-family: Arial\, Helvetica\, sans-serif\; font-size: 13.3333px\;">\, named &quot\;Best Independent County Music Group&quot\; by On-Line Country and Indie Tracker Magazine.</span>
LOCATION:Stardust Event Center at Blue Chip Casino 777 Blue Chip Drive Michigan City
UID:e.1949.2937
SEQUENCE:3
DTSTAMP:20260424T211404Z
URL:https://members.laportepartnership.com/events/details/a-night-in-the-old-west-united-way-fall-gala-2937
END:VEVENT

END:VCALENDAR
