BEGIN:VCALENDAR
VERSION:2.0
PRODID:-//ChamberMaster//Event Calendar 2.0//EN
METHOD:PUBLISH
X-PUBLISHED-TTL:P3D
REFRESH-INTERVAL:P3D
CALSCALE:GREGORIAN
BEGIN:VEVENT
DTSTART:20200428T153000Z
DTEND:20200428T163000Z
X-MICROSOFT-CDO-ALLDAYEVENT:FALSE
SUMMARY:A Series in Self Leadership: From Reactive to Proactive
DESCRIPTION:Free and exclusively for our business community! The La Porte Economic Advancement Partnership presents A Series on Self Leadership: From Reactive to Proactive. Trudy Menke\, President of Trudy Menke   Reframing Leadership\, will guide you through a five-week series! The series will consist of a free conference call on Tuesdays. Series topics include:\n\n\n\nApril 7\, Week One - I AM (Harnessing the perspective of self-talk and personal power)\n\nApril 14\, Week Two   Problem Solving from the Inside Out (Getting out of stuck)\n\nApril 21\, Week Three   5 Steps from Confusion to Clarity (Why we only learn when we are confused)\n\nApril 28\, Week Four   The Myth of Risk (A Learning model of decision making)\n\nMay 5\, Week Five   Choices (There are always options)\n\nTo join the call\, dial (605) 472-5745\, Access Code 113633# (be sure to include the # at the end)\n\n\n\nTrudy Menke is a 2011 Founding Member and Executive Director on the internationally recognized John Maxwell Team\, accessing premium resources to build studies and programs customized for her clients. Other key resources include her authorized partnership with Five Behaviors of a Cohesive Team\, Everything DiSC\, and PXT Select which all add powerful personal assessments to her clients' experiences for growth in team building\, communication skills\, leadership development and hiring insights.
X-ALT-DESC;FMTTYPE=text/html:<span style="color: rgb(29\, 33\, 41)\; font-family: Helvetica\, Arial\, sans-serif\; font-size: 14px\; white-space: pre-wrap\; background-color: rgb(255\, 255\, 255)\;">Free and exclusively for our business community! The La Porte Economic Advancement Partnership presents A Series on Self Leadership: From Reactive to Proactive. Trudy Menke\, President of Trudy Menke &ndash\; Reframing Leadership\, will guide you through a five-week series! The series will consist of a free conference call on Tuesdays. Series topics include:</span><br style="color: rgb(29\, 33\, 41)\; font-family: Helvetica\, Arial\, sans-serif\; font-size: 14px\; white-space: pre-wrap\; background-color: rgb(255\, 255\, 255)\;" />\n<br style="color: rgb(29\, 33\, 41)\; font-family: Helvetica\, Arial\, sans-serif\; font-size: 14px\; white-space: pre-wrap\; background-color: rgb(255\, 255\, 255)\;" />\n<span style="color: rgb(29\, 33\, 41)\; font-family: Helvetica\, Arial\, sans-serif\; font-size: 14px\; white-space: pre-wrap\; background-color: rgb(255\, 255\, 255)\;">April 7\, Week One - I AM (Harnessing the perspective of self-talk and personal power)</span><br style="color: rgb(29\, 33\, 41)\; font-family: Helvetica\, Arial\, sans-serif\; font-size: 14px\; white-space: pre-wrap\; background-color: rgb(255\, 255\, 255)\;" />\n<span style="color: rgb(29\, 33\, 41)\; font-family: Helvetica\, Arial\, sans-serif\; font-size: 14px\; white-space: pre-wrap\; background-color: rgb(255\, 255\, 255)\;">April 14\, Week Two &ndash\; Problem Solving from the Inside Out (Getting out of stuck)</span><br style="color: rgb(29\, 33\, 41)\; font-family: Helvetica\, Arial\, sans-serif\; font-size: 14px\; white-space: pre-wrap\; background-color: rgb(255\, 255\, 255)\;" />\n<span style="color: rgb(29\, 33\, 41)\; font-family: Helvetica\, Arial\, sans-serif\; font-size: 14px\; white-space: pre-wrap\; background-color: rgb(255\, 255\, 255)\;">April 21\, Week Three &ndash\; 5 Steps from Confusion to Clarity (Why we only learn when we are confused)</span><br style="color: rgb(29\, 33\, 41)\; font-family: Helvetica\, Arial\, sans-serif\; font-size: 14px\; white-space: pre-wrap\; background-color: rgb(255\, 255\, 255)\;" />\n<span style="color: rgb(29\, 33\, 41)\; font-family: Helvetica\, Arial\, sans-serif\; font-size: 14px\; white-space: pre-wrap\; background-color: rgb(255\, 255\, 255)\;">April 28\, Week Four &ndash\; The Myth of Risk (A Learning model of decision making)</span><br style="color: rgb(29\, 33\, 41)\; font-family: Helvetica\, Arial\, sans-serif\; font-size: 14px\; white-space: pre-wrap\; background-color: rgb(255\, 255\, 255)\;" />\n<span style="color: rgb(29\, 33\, 41)\; font-family: Helvetica\, Arial\, sans-serif\; font-size: 14px\; white-space: pre-wrap\; background-color: rgb(255\, 255\, 255)\;">May 5\, Week Five &ndash\; Choices (There are always options)</span><br style="color: rgb(29\, 33\, 41)\; font-family: Helvetica\, Arial\, sans-serif\; font-size: 14px\; white-space: pre-wrap\; background-color: rgb(255\, 255\, 255)\;" />\n<span style="color: rgb(29\, 33\, 41)\; font-family: Helvetica\, Arial\, sans-serif\; font-size: 14px\; white-space: pre-wrap\; background-color: rgb(255\, 255\, 255)\;">To join the call\, dial (605) 472-5745\, Access Code 113633# (be sure to include the # at the end)</span><br style="color: rgb(29\, 33\, 41)\; font-family: Helvetica\, Arial\, sans-serif\; font-size: 14px\; white-space: pre-wrap\; background-color: rgb(255\, 255\, 255)\;" />\n<br style="color: rgb(29\, 33\, 41)\; font-family: Helvetica\, Arial\, sans-serif\; font-size: 14px\; white-space: pre-wrap\; background-color: rgb(255\, 255\, 255)\;" />\n<span style="color: rgb(29\, 33\, 41)\; font-family: Helvetica\, Arial\, sans-serif\; font-size: 14px\; white-space: pre-wrap\; background-color: rgb(255\, 255\, 255)\;">Trudy Menke is a 2011 Founding Member and Executive Director on the internationally recognized John Maxwell Team\, accessing premium resources to build studies and programs customized for her clients. Other key resources include her authorized partnership with Five Behaviors of a Cohesive Team\, Everything DiSC\, and PXT Select which all add powerful personal assessments to her clients&#39\; experiences for growth in team building\, communication skills\, leadership development and hiring insights.</span>
LOCATION:Your Home or Office
UID:e.1949.4589
SEQUENCE:3
DTSTAMP:20260422T192831Z
URL:https://members.laportepartnership.com/events/details/a-series-in-self-leadership-from-reactive-to-proactive-04-28-2020-4589
END:VEVENT

END:VCALENDAR
