BEGIN:VCALENDAR
VERSION:2.0
PRODID:-//ChamberMaster//Event Calendar 2.0//EN
METHOD:PUBLISH
X-PUBLISHED-TTL:P3D
REFRESH-INTERVAL:P3D
CALSCALE:GREGORIAN
BEGIN:VEVENT
DTSTART:20170328T160000Z
DTEND:20170328T180000Z
X-MICROSOFT-CDO-ALLDAYEVENT:FALSE
SUMMARY:Active Shooter Emergency Response - March 28 NIHRMA Meeting
DESCRIPTION:Emergency Response- Active Shooter\n\nAre you in a safe work environment? How do you recognize the early warning signs of workplace violence?  How do you remain safe and calm during an active shooter incident?\n\nWith the ever-growing active shooter situations across the country and world\, it is even more important for companies to have a plan put together and to train their employees so they are prepared in the event that the worst-case scenario becomes a reality.\n\nNorthern Indiana Human Resource Management Association (NIHRMA) is partnering with General Insurance Services to offer this training to individuals responsible for the development and execution of a company's emergency response plan.  Chief Mark Swistek\, Assistant Chief Royce Williams and Assistant Chief Tim Richardson of the Michigan City Police Department will present this training on March 28\, 2017 at the new MCPD facility.  Human Resource professionals\, safety managers\, first responders\, and supervisors are invited to attend this workshop.  Register now to reserve your place!
X-ALT-DESC;FMTTYPE=text/html:<p><span style="font-family:&quot\;Calibri&quot\;\,sans-serif\;color:black">Emergency Response- Active Shooter<o:p></o:p></span></p>\n\n<p><span style="font-family:&quot\;Calibri&quot\;\,sans-serif\;color:black">Are you in a safe work environment? How do you recognize the early warning signs of workplace violence?&nbsp\; How do you remain safe and calm during an active shooter incident?<o:p></o:p></span></p>\n\n<p><span style="font-family:&quot\;Calibri&quot\;\,sans-serif\;color:black">With the ever-growing active shooter situations&nbsp\;across the country and world\, it is even more important for companies to have a plan put together and to train their employees&nbsp\;so they are prepared in the event that the worst-case scenario becomes a reality.<o:p></o:p></span></p>\n\n<p><span style="font-family:&quot\;Calibri&quot\;\,sans-serif\;color:black">Northern Indiana Human Resource Management Association (NIHRMA) is partnering with General Insurance Services to offer this training to individuals responsible for the development and execution of a company&rsquo\;s emergency response plan.&nbsp\; Chief Mark Swistek\, Assistant Chief Royce Williams and Assistant Chief Tim Richardson of the Michigan City Police Department will present this training on March 28\, 2017 at the new MCPD facility.&nbsp\; Human Resource professionals\, safety managers\, first responders\, and supervisors are invited to attend this workshop.&nbsp\; Register now to reserve your place!<o:p></o:p></span></p>\n
LOCATION:Michigan City Police Department 1201 E. Michigan Blvd. Michigan City
UID:e.1949.2756
SEQUENCE:3
DTSTAMP:20260425T133418Z
URL:https://members.laportepartnership.com/events/details/active-shooter-emergency-response-march-28-nihrma-meeting-2756
END:VEVENT

END:VCALENDAR
