BEGIN:VCALENDAR
VERSION:2.0
PRODID:-//ChamberMaster//Event Calendar 2.0//EN
METHOD:PUBLISH
X-PUBLISHED-TTL:P3D
REFRESH-INTERVAL:P3D
CALSCALE:GREGORIAN
BEGIN:VEVENT
DTSTART:20170110T000000Z
DTEND:20170110T013000Z
X-MICROSOFT-CDO-ALLDAYEVENT:FALSE
SUMMARY:Adult English Language Classes Begin- READ La Porte County\, Inc.
DESCRIPTION:Adult English \n\nLanguage Classes\n\n \n\nBeginning January 9\, 2017\n\nMondays and Wednesdays\, 6:00 - 7:30 p.m.\n\n \n\nAt Handley Elementary School\n\n408 W. 10th Street\, La Porte\, IN\n\n \n\n \n\n	Improve your English among friends!\n	We use individualized computer programs\, interactive lessons\, and small\, lively conversation groups. \n	We talk about money\, jobs\, health\, and more.\n	Classes are FREE for adults ages 18 and up.\n	Speakers of all languages are welcome!\n	Questions: (219) 325-0875 or readlaportecounty@gmail.com\n\n \n\nFunded in part by a grant from the Unity Foundation of La Porte County.
X-ALT-DESC;FMTTYPE=text/html:<span style="font-family:chalkduster\;"><span style="font-size:48.0pt\;">Adult English </span></span><br />\n<span style="font-family:chalkduster\;"><span style="font-size:48.0pt\;">Language Classes</span></span><br />\n&nbsp\;<br />\n<strong><span style="color:#C0504D\;"><span style="font-family:garamond\,serif\;"><span style="font-size:28.0pt\;">Beginning January 9\, 2017</span></span></span></strong><br />\n<strong><span style="font-family:garamond\,serif\;"><span style="font-size:28.0pt\;">Mondays and Wednesdays\, 6:00 - 7:30 p.m.</span></span></strong><br />\n&nbsp\;<br />\n<strong><span style="font-family:garamond\,serif\;"><span style="font-size:28.0pt\;">At Handley Elementary School</span></span></strong><br />\n<strong><span style="font-family:garamond\,serif\;"><span style="font-size:28.0pt\;">408 W. 10<sup>th</sup> Street\, La Porte\, IN</span></span></strong><br />\n&nbsp\;<br />\n&nbsp\;\n<ul>\n	<li style="margin-top:0in\;margin-right:0in\;margin-bottom:6.0pt\;"><strong><span style="font-family:garamond\,serif\;"><span style="font-size:22.0pt\;">Improve your English among friends!</span></span></strong></li>\n	<li style="margin-top:0in\;margin-right:0in\;margin-bottom:6.0pt\;"><strong><span style="font-family:garamond\,serif\;"><span style="font-size:22.0pt\;">We use individualized computer programs\, interactive lessons\, and small\, lively conversation groups. </span></span></strong></li>\n	<li style="margin-top:0in\;margin-right:0in\;margin-bottom:6.0pt\;"><strong><span style="font-family:garamond\,serif\;"><span style="font-size:22.0pt\;">We talk about money\, jobs\, health\, and more.</span></span></strong></li>\n	<li style="margin-top:0in\;margin-right:0in\;margin-bottom:6.0pt\;"><strong><span style="font-family:garamond\,serif\;"><span style="font-size:22.0pt\;">Classes are <span style="color:red\;">FREE</span> for adults ages 18 and up.</span></span></strong></li>\n	<li style="margin-top:0in\;margin-right:0in\;margin-bottom:6.0pt\;"><strong><span style="font-family:garamond\,serif\;"><span style="font-size:22.0pt\;">Speakers of all languages are welcome!</span></span></strong></li>\n	<li style="margin-top:0in\;margin-right:0in\;margin-bottom:6.0pt\;"><strong><span style="font-family:garamond\,serif\;"><span style="font-size:22.0pt\;">Questions: (219) 325-0875 or </span></span></strong><a href="mailto:readlaportecounty@gmail.com"><strong><span style="font-family:garamond\,serif\;"><span style="font-size:22.0pt\;">readlaportecounty@gmail.com</span></span></strong></a></li>\n</ul>\n&nbsp\;<br />\n<strong><span style="font-family:garamond\,serif\;"><span style="font-size:16.0pt\;">Funded in part by a grant from the Unity Foundation of La Porte County.</span></span></strong>
LOCATION:Handley Elementary School 408 W. 10th Street La Porte
UID:e.1949.2689
SEQUENCE:3
DTSTAMP:20260425T153133Z
URL:https://members.laportepartnership.com/events/details/adult-english-language-classes-begin-read-la-porte-county-inc-2689
END:VEVENT

END:VCALENDAR
