BEGIN:VCALENDAR
VERSION:2.0
PRODID:-//ChamberMaster//Event Calendar 2.0//EN
METHOD:PUBLISH
X-PUBLISHED-TTL:P3D
REFRESH-INTERVAL:P3D
CALSCALE:GREGORIAN
BEGIN:VEVENT
DTSTART:20180306T120000Z
DTEND:20180307T000000Z
X-MICROSOFT-CDO-ALLDAYEVENT:FALSE
SUMMARY:Affordable Trip to Visit the State Legislature
DESCRIPTION:Leadership La Porte County is offering an affordable opportunity to local people to visit the State Capitol in Indianapolis on Tuesday\, March 6th.  This trip is for people who have business with our State officials\, people aspiring to run for office\, or for people who have never visited the state legislature who want to see the process in action.  Attendees will join Leadership La Porte County's Adult Community Leadership class #34 members. \n\n \n\nThe bus will leave La Porte at 6 am (CST) and return around 6 pm (CST).  Attendees can take a tour of the historic Capitol building\, visit committees\, and view the House and Senate\, which are expected to be in session.  A box lunch with local legislators is included.  The cost of the trip is $25 and includes the bus transportation and lunch.\n\n \n\nThe trip is co-sponsored by Leadership La Porte County and the Unity Foundation of La Porte County.  "We are grateful for the financial support of the Unity Foundation for this year's trip.  We welcome any interested community member to join us." stated Leadership La Porte County Executive Director\, Monica Komasinski.  High school students are invited. Younger students must be accompanied by an adult.   \n\n \n\nUnity Foundation supports education at all levels and increasing understanding of how government works is important. I've been on many of these trips and I'm looking forward to this one because it's a short legislative session. There's good networking on the bus too!" said Maggi Spartz\, Unity president.\n\n \n\nTo reserve a seat or for questions contact Leadership La Porte County at 325-8223 or by email at info@leadershiplaportecounty.com.
X-ALT-DESC;FMTTYPE=text/html:Leadership La Porte County is offering an affordable opportunity to local people to visit the State Capitol in Indianapolis on Tuesday\, March 6<sup>th</sup>. &nbsp\;This trip is for people who have business with our State officials\, people aspiring to run for office\, or for people who have never visited the state legislature who want to see the process in action.&nbsp\; Attendees will join Leadership La Porte County&rsquo\;s Adult Community Leadership class #34 members.&nbsp\;<br />\n&nbsp\;<br />\nThe bus will leave La Porte at 6 am (CST) and return around 6 pm (CST).&nbsp\; Attendees can take a tour of the historic Capitol building\, visit committees\, and view the House and Senate\, which are expected to be in session.&nbsp\; A box lunch with local legislators is included.&nbsp\; The cost of the trip is $25 and includes the bus transportation and lunch.<br />\n&nbsp\;<br />\nThe trip is co-sponsored by Leadership La Porte County and the Unity Foundation of La Porte County.&nbsp\; &ldquo\;We are grateful for the financial support of the Unity Foundation for this year&rsquo\;s trip.&nbsp\; We welcome any interested community member to join us.&rdquo\; stated Leadership La Porte County Executive Director\, Monica Komasinski.&nbsp\; High school students are invited. Younger students must be accompanied by an adult. &nbsp\;&nbsp\;<br />\n&nbsp\;<br />\nUnity Foundation supports education at all levels and increasing understanding of how government works is important. I&rsquo\;ve been on many of these trips and I&rsquo\;m looking forward to this one because it&rsquo\;s a short legislative session. There&rsquo\;s good networking on the bus too!&rdquo\; said Maggi Spartz\, Unity president.<br />\n&nbsp\;<br />\nTo reserve a seat or for questions contact Leadership La Porte County at 325-8223 or by email at <a href="mailto:info@leadershiplaportecounty.com">info@leadershiplaportecounty.com</a>.&nbsp\; &nbsp\;&nbsp\;
LOCATION:
UID:e.1949.3069
SEQUENCE:3
DTSTAMP:20260424T134338Z
URL:https://members.laportepartnership.com/events/details/affordable-trip-to-visit-the-state-legislature-3069
END:VEVENT

END:VCALENDAR
