BEGIN:VCALENDAR
VERSION:2.0
PRODID:-//ChamberMaster//Event Calendar 2.0//EN
METHOD:PUBLISH
X-PUBLISHED-TTL:P3D
REFRESH-INTERVAL:P3D
CALSCALE:GREGORIAN
BEGIN:VEVENT
DTSTART:20180227T133000Z
DTEND:20180227T210000Z
X-MICROSOFT-CDO-ALLDAYEVENT:FALSE
SUMMARY:Ag Seminar from 1st Source Bank
DESCRIPTION:1st Source Bank Agriculture Proudly Presents:\n\nJohn Lauer\, CPA\, MST of Fisel\, Lauer & Johnson\, P. C.\,\n\nKayla Sweeney of Campbell Insurance and\n\nErik Clapsaddle of 1st Source Wealth Advisory Services.\n\nFebruary 27\, 2018\n\nThe Center of LaCrosse\n\n100 South Washington Street\, LaCrosse\, Indiana\n\nRegistration/coffee & donuts\n\nfrom 7:30-8:00 am with lunch catered by Birky's at 11:30 am\n\nPlease RSVP by February 19th to:\n\nMelody Wilson at WilsonM@1stsource.com or 219 476-2604
X-ALT-DESC;FMTTYPE=text/html:1st Source Bank Agriculture Proudly Presents:<br />\nJohn Lauer\, CPA\, MST of Fisel\, Lauer &amp\; Johnson\, P. C.\,<br />\nKayla Sweeney of Campbell Insurance and<br />\nErik Clapsaddle of 1st Source Wealth Advisory Services.<br />\nFebruary 27\, 2018<br />\nThe Center of LaCrosse<br />\n100 South Washington Street\, LaCrosse\, Indiana<br />\nRegistration/coffee &amp\; donuts<br />\nfrom 7:30-8:00 am with lunch catered by Birky&rsquo\;s at 11:30 am<br />\nPlease RSVP by February 19th to:<br />\nMelody Wilson at WilsonM@1stsource.com or 219 476-2604
LOCATION:The Center of LaCrosse 100 South Washington Street LaCrosse
UID:e.1949.3046
SEQUENCE:3
DTSTAMP:20260424T154739Z
URL:https://members.laportepartnership.com/events/details/ag-seminar-from-1st-source-bank-3046
END:VEVENT

END:VCALENDAR
