BEGIN:VCALENDAR
VERSION:2.0
PRODID:-//ChamberMaster//Event Calendar 2.0//EN
METHOD:PUBLISH
X-PUBLISHED-TTL:P3D
REFRESH-INTERVAL:P3D
CALSCALE:GREGORIAN
BEGIN:VEVENT
DTSTART:20170308T140000Z
DTEND:20170315T030000Z
X-MICROSOFT-CDO-ALLDAYEVENT:FALSE
SUMMARY:Al’s Supermarket YMCA Give Back Week
DESCRIPTION:Al's Supermarket in La Porte and Michigan City will be hosting a La Porte County Family YMCA\, Give Back Week. Stop in at Al's Wednesday\, March 8th through March 14th and buy a Y along with your groceries to benefit the La Porte County YMCA scholarship program. Thank you for helping families when they need it most.
X-ALT-DESC;FMTTYPE=text/html:Al&rsquo\;s Supermarket in La Porte and Michigan City will be hosting a La Porte County Family YMCA\, Give Back Week. Stop in at Al&rsquo\;s Wednesday\, March 8th through March 14th and buy a Y along with your groceries to benefit the La Porte County YMCA scholarship program. Thank you for helping families when they need it most.
LOCATION:La Porte and Michigan City Al's
UID:e.1949.2744
SEQUENCE:3
DTSTAMP:20260425T133226Z
URL:https://members.laportepartnership.com/events/details/al-s-supermarket-ymca-give-back-week-2744
END:VEVENT

END:VCALENDAR
