BEGIN:VCALENDAR
VERSION:2.0
PRODID:-//ChamberMaster//Event Calendar 2.0//EN
METHOD:PUBLISH
X-PUBLISHED-TTL:P3D
REFRESH-INTERVAL:P3D
CALSCALE:GREGORIAN
BEGIN:VEVENT
DTSTART:20160624T160000Z
DTEND:20160624T190000Z
X-MICROSOFT-CDO-ALLDAYEVENT:FALSE
SUMMARY:Alex's Lemonade Stand
DESCRIPTION:Meridian Title Corporation is committed to community service and happy to involve our staff and office locations to support worthy causes. We wanted to do something in our community to help a great charity\, and our LaPorte office site is a great location for hosting Alex's Lemonade Stand.  It is easily accessible\, and with two outlets to the parking lot\, a drive-thru lemonade stand is perfect!    The money raised at this particular event benefits the Alex's Lemonade Stand Foundation\, a nonprofit charity\, to fund childhood cancer research projects\, and to encourage and empower others to get involved and make a difference for children with cancer.   One cup at a time\, Meridian Title Corporation and Alex's Lemonade Stand will make strides in fighting childhood cancer.  Friday\, June 24th\,  we will be providing Hot Dogs\, Chips & Lemonade from 11AM to 2PM so come have lunch with us!  \n\nPlease support Meridian's efforts and this cause by visiting the lemonade stand on June 24th.  \n\nDonations will be accepted on the day of the event and can also be made online at  www.alexslemonade.org/mypage/1229167 .   Meridian Title Corporation is located at 1000 W. State Road 2 in LaPorte.\n\nFor information\, contact Dawn Zigler at (219) 362-3228 or by email at dzigler@meridiantitle.com.
X-ALT-DESC;FMTTYPE=text/html:<strong><span style="color:black\;"><span style="font-family:times new roman\,serif\;"><span style="font-size:12.0pt\;">Meridian Title Corporation is committed to community service and happy to involve our staff and office locations to support worthy causes. We wanted to do something in our community to help a great charity\, and our LaPorte office site is a great location for hosting Alex&#39\;s Lemonade Stand.&nbsp\; It is easily accessible\, and with two outlets to the parking lot\, a drive-thru lemonade stand is perfect!&nbsp\;&nbsp\;&nbsp\; The money raised at this particular event benefits the Alex&rsquo\;s Lemonade Stand Foundation\, a nonprofit charity\, to fund childhood cancer research projects\, and to encourage and empower others to get involved and make a difference for children with cancer.&nbsp\;&nbsp\; One cup at a time\, Meridian Title Corporation and Alex&#39\;s Lemonade Stand will make strides in fighting childhood cancer.&nbsp\; Friday\, June 24<sup>th</sup>\,&nbsp\; we will be providing Hot Dogs\, Chips &amp\; Lemonade from 11AM to 2PM so come have lunch with us!&nbsp\; </span></span></span></strong><br />\n<strong><span style="font-family:times new roman\,serif\;"><span style="font-size:12.0pt\;">Please support Meridian&rsquo\;s efforts and this cause by visiting the lemonade stand on June 24<sup>th</sup>.&nbsp\; </span></span></strong><br />\n<strong><span style="font-family:times new roman\,serif\;"><span style="font-size:12.0pt\;">Donations will be accepted on the day of the event and can also be made online at &nbsp\;</span></span></strong><a href="http://www.alexslemonade.org/mypage/1229167"><strong><span style="font-family:times new roman\,serif\;"><span style="font-size:12.0pt\;">www.alexslemonade.org/mypage/1229167</span></span></strong></a><strong><span style="font-family:times new roman\,serif\;"><span style="font-size:12.0pt\;"> .&nbsp\; &nbsp\;Meridian Title Corporation is located at 1000 W. State Road 2 in LaPorte.</span></span></strong><br />\n<strong><span style="font-family:times new roman\,serif\;"><span style="font-size:12.0pt\;">For information\, contact Dawn Zigler at (219) 362-3228 or by email at </span></span></strong><a href="mailto:dzigler@meridiantitle.com"><strong><span style="font-family:times new roman\,serif\;"><span style="font-size:12.0pt\;">dzigler@meridiantitle.com</span></span></strong></a><strong><span style="font-family:times new roman\,serif\;"><span style="font-size:12.0pt\;">.</span></span></strong>
LOCATION:Meridian Title Corporation 1000 W. State Road 2 La Porte
UID:e.1949.2574
SEQUENCE:3
DTSTAMP:20260426T033758Z
URL:https://members.laportepartnership.com/events/details/alex-s-lemonade-stand-06-24-2016-2574
END:VEVENT

END:VCALENDAR
