BEGIN:VCALENDAR
VERSION:2.0
PRODID:-//ChamberMaster//Event Calendar 2.0//EN
METHOD:PUBLISH
X-PUBLISHED-TTL:P3D
REFRESH-INTERVAL:P3D
CALSCALE:GREGORIAN
BEGIN:VEVENT
DTSTART:20180517T230000Z
DTEND:20180518T020000Z
X-MICROSOFT-CDO-ALLDAYEVENT:FALSE
SUMMARY:All About the Girls Part 4
DESCRIPTION:"All About the Girls" returns on May 17th\, bringing together fun and inspiration from some of the strongest women in Northwest Indiana\, all built around the subject "Like a Girl: Inspiring Strength"\n\n\n\nThis event will feature 8 strong regional women telling their inspirational stories. For the third year in a row\, we are hosting this event at the amazing Sand Creek Country Club! We sold out last year\, with bonds and memories created\, and this year promises to be even better!\n\n\n\nAppetizers will be served and beer & wine will be available\, included with your ticket. Sign up soon to save your spot at this event. Come listen\, network\, and have a great night with the Lifers and our influential presenters.\n\n\n\n#AllAboutTheGirlsPart4\n\n\n\n*Tickets can be ordered by the table or in bulk via invoice for anyone that would like to purchase tickets outside of Eventbrite\, or with your company. For more information contact Stephanie: stephanie@ideasinmotionmedia.com or 219-707-5023
X-ALT-DESC;FMTTYPE=text/html:<span class="_4n-j _3cht fsl" data-testid="event-permalink-details">&quot\;All About the Girls&quot\; returns on May 17th\, bringing together fun and inspiration from some of the strongest women in Northwest Indiana\, all built around the subject &quot\;Like a Girl: Inspiring Strength&quot\;<br />\n<br />\nThis event will feature 8 strong regional women telling their inspirational stories. For the third year in a row\, we are hosting this event at the amazing Sand Creek Country Club! We sold out last year\, with bonds and memories created\, and this year promises to be even better!<br />\n<br />\nAppetizers will be served and beer &amp\; wine will be available\, included with your ticket. Sign up soon to save your spot at this event. Come listen\, network\, and have a great night with the Lifers and our influential presenters.<br />\n<br />\n<a class="_58cn" data-ft="{&quot\;tn&quot\;:&quot\;*N&quot\;\,&quot\;type&quot\;:104}" href="https://www.facebook.com/hashtag/allaboutthegirlspart4">#AllAboutTheGirlsPart4</a><br />\n<br />\n*Tickets can be ordered by the table or in bulk via invoice for anyone that would like to purchase tickets outside of Eventbrite\, or with your company. For more information contact Stephanie: stephanie@ideasinmotionmed<wbr />ia.com or 219-707-5023</span>
LOCATION:Sand Creek Country Club 1001 Sand Creek Drive Chesterton
UID:e.1949.3085
SEQUENCE:3
DTSTAMP:20260424T115718Z
URL:https://members.laportepartnership.com/events/details/all-about-the-girls-part-4-3085
END:VEVENT

END:VCALENDAR
