BEGIN:VCALENDAR
VERSION:2.0
PRODID:-//ChamberMaster//Event Calendar 2.0//EN
METHOD:PUBLISH
X-PUBLISHED-TTL:P3D
REFRESH-INTERVAL:P3D
CALSCALE:GREGORIAN
BEGIN:VEVENT
DTSTART:20180609T130000Z
DTEND:20180609T203000Z
X-MICROSOFT-CDO-ALLDAYEVENT:FALSE
SUMMARY:All-Day Bus Tour of Shirley Heinze Land Trust Nature Preserves
DESCRIPTION:?Join us for our popular educational bus tour of several of our nature preserves. Staff\, board members and guest speakers will provide insights on land conservation and the ecology\, geology\, and history of Northwest Indiana.\n\n\n\nThe bus will depart promptly at 8:00 a.m. from the Meadowbrook Conservation Center and Nature Preserve located at 109 W. 700 North\, Valparaiso\, IN. The tour will conclude back at the Meadowbrook at 3:30 p.m.
X-ALT-DESC;FMTTYPE=text/html:<strong>?</strong><span style="color:rgb(0\, 0\, 0)\; font-family:open sans">Join us for our popular educational bus tour of several of our nature preserves. Staff\, board members and guest speakers will provide insights on land conservation and the ecology\, geology\, and history of Northwest Indiana.</span><br />\n<br />\n<span style="color:rgb(0\, 0\, 0)\; font-family:open sans">The bus will depart promptly at 8:00 a.m. from the Meadowbrook Conservation Center and Nature Preserve located at 109 W. 700 North\, Valparaiso\, IN. The tour will conclude back at the Meadowbrook at 3:30 p.m.&nbsp\;</span>
LOCATION:Depart and Return: Meadowbrook Nature Preserve 109 W 700 N Valparaiso\, IN 46385
UID:e.1949.2990
SEQUENCE:3
DTSTAMP:20260424T085252Z
URL:https://members.laportepartnership.com/events/details/all-day-bus-tour-of-shirley-heinze-land-trust-nature-preserves-2990
END:VEVENT

END:VCALENDAR
