BEGIN:VCALENDAR
VERSION:2.0
PRODID:-//ChamberMaster//Event Calendar 2.0//EN
METHOD:PUBLISH
X-PUBLISHED-TTL:P3D
REFRESH-INTERVAL:P3D
CALSCALE:GREGORIAN
BEGIN:VEVENT
DTSTART:20171117T180000Z
DTEND:20171117T220000Z
X-MICROSOFT-CDO-ALLDAYEVENT:FALSE
SUMMARY:All in the Family: Confronting Unique Business Challenges\, ISBDC
DESCRIPTION:We are partnering with Indiana University Northwest School of Business and Economics to offer a no-cost workshop on addressing the challenges faced by small- and medium-sized family-owned businesses in Northwest Indiana. With significant consulting in small business management\, Subir Bandyopadhyay\, PhD\,\n\na professor of marketing along with Dr. Charles Hobson\, professor of management\, will facilitate the workshop. \n\n \n\nKey Objectives: Outline the challenges faced\, find key solutions to the challenges faced by small family-run businesses\, and provide real-life examples of family-run businesses that have successfully addressed the key challenges outlined above. \n\n\n \n\nWhen: Noon to 4 p.m. Friday Nov. 17 \n\nWhere: Indiana University Northwest\, 3400 Broadway\, Gary\, IN 46408 in the Dunes Medical Professional Building\, Room 1156 \n\nThere is no cost for this workshop\, but registration is required. \n\n \n\nRegister Online \n\n \n\nMore information: Email northwest@isbdc.org or call (219) 644-3513.
X-ALT-DESC;FMTTYPE=text/html:<div style="color:#000000\;font-size:12pt\;">\n<div><span style="color:#005696\;font-size:16pt\;font-family:Tahoma\, Arial\, Helvetica\, sans-serif\;">We are partnering with Indiana&nbsp\;University&nbsp\;Northwest&nbsp\;School of Business and Economics to offer a no-cost workshop&nbsp\;on addressing the challenges faced by small- and medium-sized family-owned businesses in Northwest Indiana. With significant consulting in small business management\,&nbsp\;Subir Bandyopadhyay\, PhD\,<br />\na&nbsp\;professor&nbsp\;of&nbsp\;marketing&nbsp\;along with Dr. Charles Hobson\, professor of management\,&nbsp\;will facilitate the&nbsp\;workshop. </span></div>\n\n<div>&nbsp\;</div>\n\n<div><span style="color:#005696\;font-size:16pt\;font-family:Tahoma\, Arial\, Helvetica\, sans-serif\;"><strong>Key Objectives</strong>: Outline the challenges faced\, find key solutions to the challenges faced by small family-run businesses\, and provide real-life examples of family-run businesses that have successfully addressed the key challenges outlined above. </span></div>\n</div>\n\n<div style="color:#000000\;font-size:12pt\;">&nbsp\;</div>\n\n<div style="color:#000000\;font-size:12pt\;"><span style="color:#005696\;font-size:16pt\;font-family:Tahoma\, Arial\, Helvetica\, sans-serif\;"><strong>When:</strong>&nbsp\;Noon to 4 p.m. Friday Nov. 17 </span></div>\n\n<div style="color:#000000\;font-size:12pt\;"><span style="color:#005696\;font-size:16pt\;font-family:Tahoma\, Arial\, Helvetica\, sans-serif\;"><strong>Where</strong>: Indiana University Northwest\, 3400 Broadway\, Gary\, IN 46408 in the Dunes Medical Professional Building\, Room 1156 </span></div>\n\n<div style="color:#000000\;font-size:12pt\;"><span style="color:#005696\;font-size:16pt\;font-family:Tahoma\, Arial\, Helvetica\, sans-serif\;"><b>There is no cost for this workshop\, but registration is required.</b> </span></div>\n\n<div style="color:#000000\;font-size:12pt\;">&nbsp\;</div>\n\n<div align="center" style="color:#000000\;font-size:12pt\;text-align:center\;"><span style="color:#005696\;font-size:16pt\;font-family:Tahoma\, Arial\, Helvetica\, sans-serif\;"><b><a href="https://www.eventbrite.com/e/challenges-faced-by-small-medium-sized-family-owned-businesses-in-nwi-tickets-39022646787?ref=ecal" linktype="1" rel="nofollow" shape="rect" style="color: rgb(0\, 0\, 0)\;" target="_blank" track="on">Register Online</a></b> </span></div>\n\n<div style="color:#000000\;font-size:12pt\;">&nbsp\;</div>\n\n<div style="color:#000000\;font-size:12pt\;"><span style="color:#005696\;font-size:16pt\;font-family:Tahoma\, Arial\, Helvetica\, sans-serif\;"><strong>More information</strong>: Email northwest@isbdc.org or call (219) 644-3513.&nbsp\; &nbsp\; &nbsp\; &nbsp\; &nbsp\; &nbsp\; &nbsp\; &nbsp\; &nbsp\; &nbsp\; &nbsp\;</span></div>\n
LOCATION:Indiana University Northwest 3400 Broadway Gary in the Dunes Medical Professional Building\, Room 1156
UID:e.1949.2945
SEQUENCE:3
DTSTAMP:20260424T211420Z
URL:https://members.laportepartnership.com/events/details/all-in-the-family-confronting-unique-business-challenges-isbdc-2945
END:VEVENT

END:VCALENDAR
