BEGIN:VCALENDAR
VERSION:2.0
PRODID:-//ChamberMaster//Event Calendar 2.0//EN
METHOD:PUBLISH
X-PUBLISHED-TTL:P3D
REFRESH-INTERVAL:P3D
CALSCALE:GREGORIAN
BEGIN:VEVENT
DTSTART:20170809T220000Z
DTEND:20170810T010000Z
X-MICROSOFT-CDO-ALLDAYEVENT:FALSE
SUMMARY:American Heart Association Heartsaver CPR Course Offered at La Porte Hospital
DESCRIPTION:La Porte Hospital will offer the American Heart Association Heartsaver CPR Course from 5-8 p.m.\, Aug. 9 at the hospital. The cost is $55 and advanced registration is required by calling Vickie Gushrowski at (219) 326-2322. \n\n \n\nYour breathing and heartbeat can stop for a number of reasons\, from a heart attack to an accident. Cardiopulmonary resuscitation\, known as CPR\, was developed to help increase your chances of survival. The course covers the latest AHA CPR recommendations\, and includes hands-on demonstrations and certification card upon completion.
X-ALT-DESC;FMTTYPE=text/html:<span style="font-family:calibri\,sans-serif\;"><span style="font-size:11.0pt\;">&ndash\;&nbsp\;La Porte Hospital will offer the American Heart Association Heartsaver CPR Course from 5-8 p.m.\, Aug. 9 at the hospital. The cost is $55 and advanced registration is required by calling Vickie Gushrowski at (219) 326-2322. </span></span><br />\n&nbsp\;<br />\n<span style="background-image:initial\;background-position:initial\;background-size:initial\;background-repeat:initial\;background-attachment:initial\;background-origin:initial\;background-clip:initial\;"><span style="font-family:calibri\,sans-serif\;"><span style="font-size:11pt\;">Your breathing and heartbeat can stop for a number of reasons\, from a heart attack to an accident.&nbsp\;Cardiopulmonary resuscitation\, known as&nbsp\;<em><span style="font-style:normal\;">CPR</span></em>\, was developed to help increase your chances of survival. The course covers the latest AHA CPR recommendations\, and includes hands-on demonstrations and certification card upon completion.</span></span></span>
LOCATION:La Porte Hospital 1007 Lincolnway
UID:e.1949.2850
SEQUENCE:3
DTSTAMP:20260425T042443Z
URL:https://members.laportepartnership.com/events/details/american-heart-association-heartsaver-cpr-course-offered-at-la-porte-hospital-2850
END:VEVENT

END:VCALENDAR
