BEGIN:VCALENDAR
VERSION:2.0
PRODID:-//ChamberMaster//Event Calendar 2.0//EN
METHOD:PUBLISH
X-PUBLISHED-TTL:P3D
REFRESH-INTERVAL:P3D
CALSCALE:GREGORIAN
BEGIN:VEVENT
DTSTART:20180512T233000Z
DTEND:20180513T013000Z
X-MICROSOFT-CDO-ALLDAYEVENT:FALSE
SUMMARY:American Legion Trivia Night
DESCRIPTION:AMERICAN LEGION POST 83\n\n228 E. Lincolnway\, LaPorte\, IN\n\nSATURDAY MAY 12\, 2018\n\nDOORS OPEN AT 6:30\n\nTRIVIA STARTS AT 7:00\n\nDONATION IS $10 @ PERSON\n\nTEAMS ARE LIMITED TO 10 PEOPLE\n\n15 TEAMS MAX\n\nDRINK SPECIALS\n\nBEER BUCKET SPECIAL\n\nSHOT SPECIALS\n\n50/50 DRAWING\n\nSNACKS MAY BE BROUGHT IN (BUT NO DRINKS!)\n\nSIGN UP NOW!\n\nCONTACT KATHY MILLER TO ENTER\n\nEMAIL KATHY AT KAYM16@HOTMAIL.COM OR CALL (219) 380-9383\n\n--OR--\n\nSIGN UP YOUR TEAM AT THE AMERICAN LEGION\n\nENTRANCE IS AT THE REAR OF THE BUILDING
X-ALT-DESC;FMTTYPE=text/html:AMERICAN LEGION POST 83<br />\n228 E. Lincolnway\, LaPorte\, IN<br />\nSATURDAY MAY 12\, 2018<br />\nDOORS OPEN AT 6:30<br />\nTRIVIA STARTS AT 7:00<br />\nDONATION IS $10 @ PERSON<br />\nTEAMS ARE LIMITED TO 10 PEOPLE<br />\n15 TEAMS MAX<br />\nDRINK SPECIALS<br />\nBEER BUCKET SPECIAL<br />\nSHOT SPECIALS<br />\n50/50 DRAWING<br />\nSNACKS MAY BE BROUGHT IN (BUT NO DRINKS!)<br />\nSIGN UP NOW!<br />\nCONTACT KATHY MILLER TO ENTER<br />\nEMAIL KATHY AT KAYM16@HOTMAIL.COM OR CALL (219) 380-9383<br />\n--OR--<br />\nSIGN UP YOUR TEAM AT THE AMERICAN LEGION<br />\nENTRANCE IS AT THE REAR OF THE BUILDING
LOCATION:American Legion Post 83 228 E. Lincolnway La Porte
UID:e.1949.4141
SEQUENCE:3
DTSTAMP:20260424T103341Z
URL:https://members.laportepartnership.com/events/details/american-legion-trivia-night-4141
END:VEVENT

END:VCALENDAR
