BEGIN:VCALENDAR
VERSION:2.0
PRODID:-//ChamberMaster//Event Calendar 2.0//EN
METHOD:PUBLISH
X-PUBLISHED-TTL:P3D
REFRESH-INTERVAL:P3D
CALSCALE:GREGORIAN
BEGIN:VEVENT
DTSTART:20170810T153000Z
DTEND:20170810T170000Z
X-MICROSOFT-CDO-ALLDAYEVENT:FALSE
SUMMARY:American Signature Furniture WorkOne Hiring Event
DESCRIPTION:American Signature Furniture will have a hiring event at WorkOne on Thursday\, August 10th at 10:30 a.m. At American Signature Inc.\, we believe everyone has the right to a well-furnished life. Every day\, our customers emark upon their personal style journey- an adventure. We have been at our La Porte facility for 12.5 years. We are one in four warehouse distribution centers for Value City Furniture and American Signature Furniture Stores. Our location services 32\, soon to be 33 stores regionally in the Chicago\, Indianapolis\, St. Louis and Detroit areas. We have over 100 team members at the Indiana Distribution Center. Important information: employer will be present\, must bring resume\, and dress for success.\n\n\n\nThe role is responsible for shipping and receiving merchandise and executing other distribution center operations. Three shifts are available: Monday-Friday\, 6:00 a.m.-2:40 p.m.\; Sunday-Wednesday 4:00 p.m.-2:45 a.m.\; and Thursday-Saturday 4:00 p.m.-4:40 a.m.\n\n\n\nOn Indiana Career Connect- Title: Material Handler\; Job Order #: 891577\; # of positions: 6.\n\n\n\nThe location of the event is the WorkOne La Porte office located at 300 Legacy Plaza W in La Porte. Questions? Contact Melissa Cantrell at 219.762.6592\, ext. 258 or mcantrell@gotoworkonenw.com
X-ALT-DESC;FMTTYPE=text/html:American Signature Furniture will have a hiring event at WorkOne&nbsp\;on Thursday\, August 10th at 10:30 a.m. At American Signature Inc.\, we believe everyone has the right to a well-furnished life. Every day\, our customers emark upon their personal style journey- an adventure. We have been at our La Porte facility for 12.5 years. We are one in four warehouse distribution centers for Value City Furniture and American Signature Furniture Stores. Our location services 32\, soon to be 33 stores regionally in the Chicago\, Indianapolis\, St. Louis and Detroit areas. We have over 100 team members at the Indiana Distribution Center. Important information: employer will be present\, must bring resume\, and dress for success.<br />\n<br />\nThe role is responsible for shipping and receiving merchandise and executing other distribution center operations. Three shifts are available: Monday-Friday\, 6:00 a.m.-2:40 p.m.\; Sunday-Wednesday 4:00 p.m.-2:45 a.m.\; and Thursday-Saturday 4:00 p.m.-4:40 a.m.<br />\n<br />\nOn Indiana Career Connect- Title: Material Handler\; Job Order #: 891577\; # of positions: 6.<br />\n<br />\nThe location of the event is the WorkOne La Porte office located at 300 Legacy Plaza W in La Porte. Questions? Contact Melissa Cantrell at 219.762.6592\, ext. 258 or mcantrell@gotoworkonenw.com
LOCATION:WorkOne La Porte 300 Legacy Plaza W\, La Porte
UID:e.1949.2856
SEQUENCE:3
DTSTAMP:20260425T022131Z
URL:https://members.laportepartnership.com/events/details/american-signature-furniture-workone-hiring-event-2856
END:VEVENT

END:VCALENDAR
