BEGIN:VCALENDAR
VERSION:2.0
PRODID:-//ChamberMaster//Event Calendar 2.0//EN
METHOD:PUBLISH
X-PUBLISHED-TTL:P3D
REFRESH-INTERVAL:P3D
CALSCALE:GREGORIAN
BEGIN:VEVENT
DTSTART:20171117T134500Z
DTEND:20171117T160000Z
X-MICROSOFT-CDO-ALLDAYEVENT:FALSE
SUMMARY:Annual Career Day at Boston Middle School
DESCRIPTION:Boston Middle School will hold its Annual Career Day for 7th graders on Friday\, November 17. The school would love to have you participate as a presenter this year! The set-up of Career Day is similar to that of a job fair. The presenters are at tables in different classrooms and a class of students is escorted to that location every 10-15 minutes. the students rotate around the room to the presenters' tables and ask questions to discuss the career. You would not need to prepare a speech to give the students\, only be ready to provide them with interested information about your career as a small group rotates to your table.\n\n \n\nIf you choose to participate\, we would need you to be at BMS from 7:45-10:00 a.m. that day. Please consider helping us as a presenter. Please respond at your earliest convenience to slenig@lpcsc.k12.in.us. We look forward to hearing from you!
X-ALT-DESC;FMTTYPE=text/html:<div style="color: rgb(69\, 69\, 69)\; font-family: Arial\, Helvetica\, sans-serif\; font-size: 13.3333px\;">Boston Middle School will hold its Annual Career Day for 7th graders on Friday\, November 17. The school would love to have you participate as a presenter this year! The set-up of Career Day is similar to that of a job fair. The presenters are at tables in different classrooms and a class of students is escorted to that location every 10-15 minutes. the students rotate around the room to the presenters&#39\; tables and ask questions to discuss the career. You would not need to prepare a speech to give the students\, only be ready to provide them with interested information about your career as a small group rotates to your table.</div>\n\n<div style="color: rgb(69\, 69\, 69)\; font-family: Arial\, Helvetica\, sans-serif\; font-size: 13.3333px\;">&nbsp\;</div>\n\n<div style="color: rgb(69\, 69\, 69)\; font-family: Arial\, Helvetica\, sans-serif\; font-size: 13.3333px\;">If you choose to participate\, we would need you to be at BMS from 7:45-10:00 a.m. that day. Please consider helping us as a presenter. Please respond at your earliest convenience to slenig@lpcsc.k12.in.us. We look forward to hearing from you!</div>\n
LOCATION:Boston Middle School 1000 Harrison Street La Porte
UID:e.1949.2876
SEQUENCE:3
DTSTAMP:20260424T211347Z
URL:https://members.laportepartnership.com/events/details/annual-career-day-at-boston-middle-school-2876
END:VEVENT

END:VCALENDAR
