BEGIN:VCALENDAR
VERSION:2.0
PRODID:-//ChamberMaster//Event Calendar 2.0//EN
METHOD:PUBLISH
X-PUBLISHED-TTL:P3D
REFRESH-INTERVAL:P3D
CALSCALE:GREGORIAN
BEGIN:VEVENT
DTSTART:20180511T140000Z
DTEND:20180511T190000Z
X-MICROSOFT-CDO-ALLDAYEVENT:FALSE
SUMMARY:Annual Golf Outing- Leadership La Porte County
DESCRIPTION:You are cordially invited to attend our Annual Golf outing on Friday\, May 11th at Briar Leaf Golf Club\n\n \n\nJoin us for a day of fun and support Leadership La Porte County by registering your team today! Each team will participate in a shotgun start\, best ball scramble event.  There will be prizes for the top performers\, lunch and many great door prizes. Non-golfers are also welcome to join us for lunch.\n\n\n\nCost to attend is $300 per team.  Purchase a tee sign for $100. Non-golfer lunch price is $20 per person.
X-ALT-DESC;FMTTYPE=text/html:<strong><span style="font-family:arial\,sans-serif\;"><span style="font-size:10.0pt\;">You are cordially invited to attend our Annual Golf outing on Friday\, May 11th at Briar Leaf Golf Club</span></span></strong><br />\n&nbsp\;<br />\n<span style="font-family:arial\,sans-serif\;"><span style="font-size:10.0pt\;">Join us for a day of fun and support Leadership La Porte County by registering your team today! Each team will participate in a shotgun start\, best ball scramble event.&nbsp\; There will be prizes for the top performers\, lunch and many great door prizes. Non-golfers are also welcome to join us for lunch.<br />\n<br />\n<strong><span style="font-family:arial\,sans-serif\;">Cost to attend is $300 per team.&nbsp\; Purchase a tee sign for $100. Non-golfer lunch price is $20 per person.</span></strong></span></span>
LOCATION:Briar Leaf Golf Club 3233 N. State Road 39 La Porte
UID:e.1949.4091
SEQUENCE:3
DTSTAMP:20260424T115559Z
URL:https://members.laportepartnership.com/events/details/annual-golf-outing-leadership-la-porte-county-4091
END:VEVENT

END:VCALENDAR
