BEGIN:VCALENDAR
VERSION:2.0
PRODID:-//ChamberMaster//Event Calendar 2.0//EN
METHOD:PUBLISH
X-PUBLISHED-TTL:P3D
REFRESH-INTERVAL:P3D
CALSCALE:GREGORIAN
BEGIN:VEVENT
DTSTART:20180704T000000Z
DTEND:20180704T040000Z
X-MICROSOFT-CDO-ALLDAYEVENT:FALSE
SUMMARY:Annual La Porte Fireworks Celebration
DESCRIPTION:The LaPorte Jaycees have proudly organized LaPorte's 4th of July activities for over 70 years. Every year\, the chapter helps to welcome over 60\,000 of LaPorte's residents\, neighbors and friends to the city for the 4th of July Parade. The organization also helps to organize the brew fest called Red Wine & Brew as well as implements and organizes the annual fireworks.\n\nDue to changes in membership over the years and increased competition from surrounding communities\, however\, the LaPorte Jaycees have decided to move their annual Fireworks Celebration to July 3 of every year. It is anticipated that this change will allow more of the area's residents to attend the fireworks event as well as other events in the region.\n\nJoy Zigler\, previous chair of the LaPorte Jaycees' 4th of July Celebrations\, stated "While we understand and appreciate the history of this event\, changes needed to be made to continue to make the event viable. We believe that this change will be what is best for both our community and our membership."\n\nBrad Rauschenbach\, current chair of the 4th of July Celebrations\, continued\, "Our organization is still committed to providing LaPorte an outstanding fireworks presentation yearly\, and we feel that this change is the best way to do so moving forward."\n\nThe Jaycees are already planning for the 2018 4th of July celebrations and more information will be released soon. The LaPorte Jaycees organization was founded in 1946 and has a mission to build the skills and networks of their young professional members through service to the community. Potential new members who believe that "Service to Humanity is the Best Work of Life" are always sought.
X-ALT-DESC;FMTTYPE=text/html:<p style="box-sizing: border-box\; margin: 0px 0px 15px\; color: rgb(68\, 68\, 68)\; font-family: &quot\;Pontano Sans&quot\;\, sans-serif\; font-size: 18px\;">The LaPorte Jaycees have proudly organized LaPorte&rsquo\;s 4th of July activities for over 70 years. Every year\, the chapter helps to welcome over 60\,000 of LaPorte&rsquo\;s residents\, neighbors and friends to the city for the 4th of July Parade. The organization also helps to organize the brew fest called Red Wine &amp\; Brew as well as implements and organizes the annual fireworks.</p>\n\n<p style="box-sizing: border-box\; margin: 0px 0px 15px\; color: rgb(68\, 68\, 68)\; font-family: &quot\;Pontano Sans&quot\;\, sans-serif\; font-size: 18px\;">Due to changes in membership over the years and increased competition from surrounding communities\, however\, the LaPorte Jaycees have decided to move their annual Fireworks Celebration to July 3 of every year. It is anticipated that this change will allow more of the area&rsquo\;s residents to attend the fireworks event as well as other events in the region.</p>\n\n<p style="box-sizing: border-box\; margin: 0px 0px 15px\; color: rgb(68\, 68\, 68)\; font-family: &quot\;Pontano Sans&quot\;\, sans-serif\; font-size: 18px\;">Joy Zigler\, previous chair of the LaPorte Jaycees&rsquo\; 4th of July Celebrations\, stated &ldquo\;While we understand and appreciate the history of this event\, changes needed to be made to continue to make the event viable. We believe that this change will be what is best for both our community and our membership.&rdquo\;</p>\n\n<p style="box-sizing: border-box\; margin: 0px 0px 15px\; color: rgb(68\, 68\, 68)\; font-family: &quot\;Pontano Sans&quot\;\, sans-serif\; font-size: 18px\;">Brad Rauschenbach\, current chair of the 4th of July Celebrations\, continued\, &ldquo\;Our organization is still committed to providing LaPorte an outstanding fireworks presentation yearly\, and we feel that this change is the best way to do so moving forward.&rdquo\;</p>\n\n<p style="box-sizing: border-box\; margin: 0px 0px 15px\; color: rgb(68\, 68\, 68)\; font-family: &quot\;Pontano Sans&quot\;\, sans-serif\; font-size: 18px\;">The Jaycees are already planning for the 2018 4th of July celebrations and more information will be released soon.&nbsp\;The LaPorte Jaycees organization was founded in 1946 and has a mission to build the skills and networks of their young professional members through service to the community. Potential new members who believe that &ldquo\;Service to Humanity is the Best Work of Life&rdquo\; are always sought.</p>\n
LOCATION:La Porte County Fairgrounds 2581 W. State Road 2 La Porte
UID:e.1949.4176
SEQUENCE:3
DTSTAMP:20260424T071713Z
URL:https://members.laportepartnership.com/events/details/annual-la-porte-fireworks-celebration-4176
END:VEVENT

END:VCALENDAR
