BEGIN:VCALENDAR
VERSION:2.0
PRODID:-//ChamberMaster//Event Calendar 2.0//EN
METHOD:PUBLISH
X-PUBLISHED-TTL:P3D
REFRESH-INTERVAL:P3D
CALSCALE:GREGORIAN
BEGIN:VEVENT
DTSTART:20171023T230000Z
DTEND:20171024T010000Z
X-MICROSOFT-CDO-ALLDAYEVENT:FALSE
SUMMARY:Annual Membership Meeting- Social and Learning Institute
DESCRIPTION:The Annual Membership Meeting of The Social & Learning Institute will be held on Monday\, October 23rd at 6 pm at the Institute\, 201 East Garfield Street\, Michigan City.  The meeting will include: summary of accomplishments & goals\, fiscal year review\, and membership election of Board of Trustees. This meeting is open to the public. If you are interested in learning more about Social & Learning contact Debbie Sellers\, Executive Director at dsellers@socialandlearning.org or visit website.
X-ALT-DESC;FMTTYPE=text/html:<font face="Candara\,sans-serif" style="color: rgb(0\, 0\, 0)\; font-size: 16px\; line-height: normal\;"><b>The Annual Membership Meeting of The Social &amp\; Learning Institute will be held on Monday\, October 23rd at 6 pm at the Institute\, 201 East Garfield Street\, Michigan City.&nbsp\; The meeting will include: summary of accomplishments &amp\; goals\, fiscal year review\, and membership election of Board of Trustees. This meeting is open to the public. If you are interested in learning more about Social &amp\; Learning contact Debbie Sellers\, Executive Director at&nbsp\;</b></font><a href="https://webmail04.domainlocalhost.com/owa/redir.aspx?C=JChBdmzefsgbqwgfUafX3QMHC1Jblw9GT4weOoilvE92rHEToRTVCA..&amp\;URL=mailto%3adsellers%40socialandlearning.org" style="font-family: 'Times New Roman'\, serif\; font-size: 16px\; line-height: normal\;" target="_blank"><font face="Candara\,sans-serif"><b>dsellers@socialandlearning.org</b></font></a><font face="Candara\,sans-serif" style="color: rgb(0\, 0\, 0)\; font-size: 16px\; line-height: normal\;"><b>&nbsp\;or visit&nbsp\;</b></font><a href="https://webmail04.domainlocalhost.com/owa/redir.aspx?C=q0JlX3TY0MUa-7MEfNTW9RA-t4mHm2LMpAjNJW1Xrbx2rHEToRTVCA..&amp\;URL=http%3a%2f%2fsocialandlearning.org%2findex.html" style="font-family: 'Times New Roman'\, serif\; font-size: 16px\; line-height: normal\;" target="_blank"><font face="Candara\,sans-serif"><b>website</b></font></a><font face="Candara\,sans-serif" style="color: rgb(0\, 0\, 0)\; font-size: 16px\; line-height: normal\;"><b>.</b></font>
LOCATION:201 E. Garfield Street Michigan City
UID:e.1949.2916
SEQUENCE:3
DTSTAMP:20260425T002605Z
URL:https://members.laportepartnership.com/events/details/annual-membership-meeting-social-and-learning-institute-2916
END:VEVENT

END:VCALENDAR
