BEGIN:VCALENDAR
VERSION:2.0
PRODID:-//ChamberMaster//Event Calendar 2.0//EN
METHOD:PUBLISH
X-PUBLISHED-TTL:P3D
REFRESH-INTERVAL:P3D
CALSCALE:GREGORIAN
BEGIN:VEVENT
DTSTART;VALUE=DATE:20190803
DTEND;VALUE=DATE:20190929
TRANSP:TRANSPARENT
X-MICROSOFT-CDO-ALLDAYEVENT:TRUE
SUMMARY:ANNUAL PHOTO CONTEST
DESCRIPTION:The theme of this year's La Porte County Historical Society Museum's photography contest is LA PORTE COUNTY DOORS AND WINDOWS. The photo must be current\, unframed\, 8"x10"\, and in black and white or color. The subject of the photograph must be in La Porte County and be at least 50 years old. The deadline for submission of the unframed photo is 4:30 p.m. on August 3\, 2019\, at the museum. Photographers must fill out an entry form for each photo. The photos will become property of the museum. Judging will be on August 17\, 2019\, and the photos will remain on display at the museum through the end of September.
X-ALT-DESC;FMTTYPE=text/html:The theme of this year&rsquo\;s La Porte County Historical Society Museum&rsquo\;s photography contest is LA PORTE COUNTY DOORS AND WINDOWS. The photo must be current\, unframed\, 8&rdquo\;x10&rdquo\;\, and in black and white or color. The subject of the photograph must be in La Porte County and be at least 50 years old. The deadline for submission of the unframed photo is 4:30 p.m. on August 3\, 2019\, at the museum. Photographers must fill out an entry form for each photo. The photos will become property of the museum. Judging will be on August 17\, 2019\, and the photos will remain on display at the museum through the end of September.
LOCATION:La Porte County Historical Society Museum
UID:e.1949.4367
SEQUENCE:3
DTSTAMP:20260423T081945Z
URL:https://members.laportepartnership.com/events/details/annual-photo-contest-4367
END:VEVENT

END:VCALENDAR
