BEGIN:VCALENDAR
VERSION:2.0
PRODID:-//ChamberMaster//Event Calendar 2.0//EN
METHOD:PUBLISH
X-PUBLISHED-TTL:P3D
REFRESH-INTERVAL:P3D
CALSCALE:GREGORIAN
BEGIN:VEVENT
DTSTART:20171115T143000Z
DTEND:20171115T160000Z
X-MICROSOFT-CDO-ALLDAYEVENT:FALSE
SUMMARY:Annual Tobacco Coalition Celebration- Healthy Communities of La Porte County
DESCRIPTION:Please join us for our annual tobacco coalition celebration  where we will be recognizing Ray Ginsburg as an Exemplary Coalition Member. Attendees will have the opportunity to join a smoke-free air campaign task force and/or point- of- sale town hall meeting event planning committee for 2018.\n\n \n\nWe will be meeting Wednesday 11/15 at 8:30am at the Star Center (across the parking lot from NIEF)\, 422 Franklin Street\, Michigan City   enter under the stripped awning near the News Dispatch. \n\n \n\nPlease RSVP by Monday so we can plan breakfast.\n\n \n\nIf you haven't been involved in the coalition in a while\, this is a great time to get involved. We have several projects we are working on and are preparing for a smoke-free ordinance campaign.
X-ALT-DESC;FMTTYPE=text/html:Please join us for our annual tobacco coalition celebration &nbsp\;where we will be recognizing Ray Ginsburg as an Exemplary Coalition Member. Attendees will have the opportunity to join a smoke-free air campaign task force and/or point- of- sale town hall meeting event planning committee for 2018.<br />\n&nbsp\;<br />\n<u>We will be meeting Wednesday 11/15 at 8:30am at the Star Center (across the parking lot from NIEF)\, 422 Franklin Street\, Michigan City &ndash\; enter under the stripped awning near the News Dispatch. </u><br />\n&nbsp\;<br />\nPlease RSVP by Monday so we can plan breakfast.<br />\n&nbsp\;<br />\n<strong>If you haven&rsquo\;t been involved in the coalition in a while\, this is a great time to get involved. We have several projects we are working on and are preparing for a smoke-free ordinance campaign.</strong>
LOCATION:Star Center 422 Franklin Street Michigan City\, enter under the striped awning near the News Dispatch
UID:e.1949.2950
SEQUENCE:3
DTSTAMP:20260424T211543Z
URL:https://members.laportepartnership.com/events/details/annual-tobacco-coalition-celebration-healthy-communities-of-la-porte-county-2950
END:VEVENT

END:VCALENDAR
