BEGIN:VCALENDAR
VERSION:2.0
PRODID:-//ChamberMaster//Event Calendar 2.0//EN
METHOD:PUBLISH
X-PUBLISHED-TTL:P3D
REFRESH-INTERVAL:P3D
CALSCALE:GREGORIAN
BEGIN:VEVENT
DTSTART:20230415T233000Z
DTEND:20230416T030000Z
X-MICROSOFT-CDO-ALLDAYEVENT:FALSE
SUMMARY:April Murder Mystery Dinner
DESCRIPTION:Joins us for an evening of laughter\, intrigue\, and... MURDER?! Often described as the hidden gem of La Porte. Join Interlude At Etropal\, April 15th for our Murder Mystery Dinner. This event is perfect for getting out of your comfort zone and a chance to participate in something new! The evening will include dinner\, a cash bar\, and the opportunity to solve a classic whodunit! Filled with d cor from yesteryear\, experience an event in our beautifully eclectic space! \n\nThis event is 18+
X-ALT-DESC;FMTTYPE=text/html:Joins us for an evening of laughter\, intrigue\, and... MURDER?! Often described as the hidden gem of La Porte. Join Interlude At Etropal\, April 15th for our Murder Mystery Dinner. This event is perfect for getting out of your comfort zone and a chance to participate in something new! The evening will include dinner\, a cash bar\, and the opportunity to solve a classic whodunit! <font color="#222222" face="arial\, helvetica\, sans-serif" size="2">Filled with d&eacute\;cor&nbsp\;from yesteryear\, experience an event in our beautifully eclectic space!&nbsp\;</font><br />\nThis event is 18+
LOCATION:Interlude At Etropal 703 Lincolnway 2nd Floor La Porte\, IN 46350
UID:e.1949.4976
SEQUENCE:3
DTSTAMP:20260423T030535Z
URL:https://members.laportepartnership.com/events/details/april-murder-mystery-dinner-4976
END:VEVENT

END:VCALENDAR
