BEGIN:VCALENDAR
VERSION:2.0
PRODID:-//ChamberMaster//Event Calendar 2.0//EN
METHOD:PUBLISH
X-PUBLISHED-TTL:P3D
REFRESH-INTERVAL:P3D
CALSCALE:GREGORIAN
BEGIN:VEVENT
DTSTART:20190817T130000Z
DTEND:20190817T180000Z
X-MICROSOFT-CDO-ALLDAYEVENT:FALSE
SUMMARY:Arts & Crafts At The Market
DESCRIPTION:This market is special\; the La Porte Economic Advancement Partnership teams up with the La Porte Farmer's Market and hosts an Arts and Crafts Fair alongside the market vendors. For amazing entertainment\, Go Aerial Fitness will be demonstrating their awesome skills and what they do there to promote a healthy lifestyle.
X-ALT-DESC;FMTTYPE=text/html:<span style="color: rgb(29\, 33\, 41)\; font-family: Helvetica\, Arial\, sans-serif\; font-size: 14px\; white-space: pre-wrap\; background-color: rgb(255\, 255\, 255)\;">This market is special\; the La Porte Economic Advancement Partnership teams up with the La Porte Farmer&#39\;s Market and hosts an Arts and Crafts Fair alongside the market vendors. For amazing entertainment\, Go Aerial Fitness will be demonstrating their awesome skills and what they do there to promote a healthy lifestyle.</span>
LOCATION:La Porte Farmer's Market Corner of Lincolnway & Monroe
UID:e.1949.4384
SEQUENCE:3
DTSTAMP:20260423T095550Z
URL:https://members.laportepartnership.com/events/details/arts-crafts-at-the-market-4384
END:VEVENT

END:VCALENDAR
