BEGIN:VCALENDAR
VERSION:2.0
PRODID:-//ChamberMaster//Event Calendar 2.0//EN
METHOD:PUBLISH
X-PUBLISHED-TTL:P3D
REFRESH-INTERVAL:P3D
CALSCALE:GREGORIAN
BEGIN:VEVENT
DTSTART:20170127T170000Z
DTEND:20170127T173000Z
X-MICROSOFT-CDO-ALLDAYEVENT:FALSE
SUMMARY:As Time Goes By Ribbon Cutting
DESCRIPTION:Join the store As Time Goes By for a ribbon cutting on Friday\, January 27 at 11:00 a.m. The business is celebrating new ownership and will host a weekend long Grand Opening from January 27 to January 29. The ribbon cutting will take place at 614 Lincolnway in Downtown La Porte and will be administered by the Greater La Porte Chamber of Commerce.\n\nAs Time Goes By is an antique dealer located in heart of Downtown La Porte adjacent to Younger Life Plaza 618. Antiques\, uniques\, and junktiques are all offered by store\, and new vendors will continue to be added in the coming weeks. The location also offers the unique service of clock repair. The new owner of the store is excited to be a part of the La Porte community.\n\nFor more information about As Time Goes By\, visit the location at 614 Lincolnway or call 219.324.4868. For more information about the Greater La Porte Chamber of Commerce or to become a member\, visit www.lpchamber.com or call 219.362.3178.
X-ALT-DESC;FMTTYPE=text/html:<span style="font-family:times new roman\,serif\;"><span style="font-size:12.0pt\;">Join the store As Time Goes By for a ribbon cutting on Friday\, January 27 at 11:00 a.m. The business is celebrating new ownership and will host a weekend long Grand Opening from January 27 to January 29. The ribbon cutting will take place at 614 Lincolnway in Downtown La Porte and will be administered by the Greater La Porte Chamber of Commerce.</span></span><br />\n<span style="font-family:times new roman\,serif\;"><span style="font-size:12.0pt\;">As Time Goes By is an antique dealer located in heart of Downtown La Porte adjacent to Younger Life Plaza 618. Antiques\, uniques\, and junktiques are all offered by store\, and new vendors will continue to be added in the coming weeks. The location also offers the unique service of clock repair. The new owner of the store is excited to be a part of the La Porte community.</span></span><br />\n<span style="font-family:times new roman\,serif\;"><span style="font-size:12.0pt\;">For more information about As Time Goes By\, visit the location at 614 Lincolnway or call 219.324.4868. For more information about the Greater La Porte Chamber of Commerce or to become a member\, visit www.lpchamber.com or call 219.362.3178.</span></span>
LOCATION:As Time Goes By 614 Lincolnway\, La Porte
UID:e.1949.2698
SEQUENCE:3
DTSTAMP:20260425T152831Z
URL:https://members.laportepartnership.com/events/details/as-time-goes-by-ribbon-cutting-2698
END:VEVENT

END:VCALENDAR
