BEGIN:VCALENDAR
VERSION:2.0
PRODID:-//ChamberMaster//Event Calendar 2.0//EN
METHOD:PUBLISH
X-PUBLISHED-TTL:P3D
REFRESH-INTERVAL:P3D
CALSCALE:GREGORIAN
BEGIN:VEVENT
DTSTART;VALUE=DATE:20200627
DTEND;VALUE=DATE:20200730
TRANSP:TRANSPARENT
X-MICROSOFT-CDO-ALLDAYEVENT:TRUE
SUMMARY:Auto Indiana Exhibit
DESCRIPTION:The La Porte County Historical Society will host "Auto Indiana\," one of the Indiana Historical Society's traveling exhibits\, from Saturday\, June 27\, 2020 through Wednesday\, July 29\, 2020. The exhibit\, which takes visitors on a ride through Indiana's rich automotive past\, will be on display at the Museum\, located at 2405 Indiana Avenue\, La Porte. This display will be on exhibit in conjunction with the La Porte County Historical Society's Antique Car Show on Saturday\, July 18\, 2020.\n\n\n\n"Auto Indiana" explores the mark Indiana's inventors and innovators such as Elwood Haynes and Ralph Teetor and automakers such as Studebaker and Duesenberg left on the industry and vice versa. The exhibit also illuminates ties between the automobiles and the development of many other economic opportunities for the "Crossroads of America\," such as the iron\, steel\, and glass businesses. In addition\, it explores how the automobile became part of the American Dream and popular culture\, from movies to making personal memories.\n\n\n\nFinally\, the exhibit allows guests to gaze down the road ahead for Hoosiers\, from the environmental impact of automobiles to a look at manufacturing today. "Auto Indiana" is made possible by Kroger.\n\n\n\nThe Museum is open Tuesdays through Saturdays\, 10:00 a.m. to 4:30 p.m.\, and is handicapped accessible. Regular admission fees apply (adults $5.00\, adults 60 and older $4.00\, children 18 and under are free).
X-ALT-DESC;FMTTYPE=text/html:The La Porte County Historical Society will host &ldquo\;Auto Indiana\,&rdquo\; one of the Indiana Historical Society&rsquo\;s traveling exhibits\, from Saturday\, June 27\, 2020 through Wednesday\, July 29\, 2020. The exhibit\, which takes visitors on a ride through Indiana&#39\;s rich automotive past\, will be on display at the Museum\, located at 2405 Indiana Avenue\, La Porte. This display will be on exhibit in conjunction with the La Porte County Historical Society&rsquo\;s Antique Car Show on Saturday\, July 18\, 2020.<br />\n<br />\n&ldquo\;Auto Indiana&rdquo\; explores the mark Indiana&#39\;s inventors and innovators such as Elwood Haynes and Ralph Teetor and automakers such as Studebaker and Duesenberg left on the industry&mdash\;and vice versa. The exhibit also illuminates ties between the automobiles and the development of many other economic opportunities for the &quot\;Crossroads of America\,&quot\; such as the iron\, steel\, and glass businesses. In addition\, it explores how the automobile became part of the American Dream and popular culture\, from movies to making personal memories.<br />\n<br />\nFinally\, the exhibit allows guests to gaze down the road ahead for Hoosiers\, from the environmental impact of automobiles to a look at manufacturing today. &ldquo\;Auto Indiana&rdquo\; is made possible by Kroger.<br />\n<br />\nThe Museum is open Tuesdays through Saturdays\, 10:00 a.m. to 4:30 p.m.\, and is handicapped accessible. Regular admission fees apply (adults $5.00\, adults 60 and older $4.00\, children 18 and under are free).
LOCATION:La Porte County Historical Society Museum\, 2405 Indiana Avenue\, La Porte\, IN 46350 219-324-6767\, info@laportecountyhistory.org
UID:e.1949.4579
SEQUENCE:3
DTSTAMP:20260422T135348Z
URL:https://members.laportepartnership.com/events/details/auto-indiana-exhibit-4579
END:VEVENT

END:VCALENDAR
