BEGIN:VCALENDAR
VERSION:2.0
PRODID:-//ChamberMaster//Event Calendar 2.0//EN
METHOD:PUBLISH
X-PUBLISHED-TTL:P3D
REFRESH-INTERVAL:P3D
CALSCALE:GREGORIAN
BEGIN:VEVENT
DTSTART:20190927T230000Z
DTEND:20190928T030000Z
X-MICROSOFT-CDO-ALLDAYEVENT:FALSE
SUMMARY:Back to the Prom
DESCRIPTION:Join for an evening of music\, food\, drinks and fun at our 21+ retro prom. Local restaurants will be at the event with heavy appetizers to munch throughout the night. The evening will include a cash bar\, silent auction items\, a DJ\, and lots dancing. Will will have our Prom Court\, with a Prom King and Queen crowned by the end of the evening. The nominees will raise funds for the honor of being crowned Prom Royalty.\n\nTickets $50\n\n \n\nThis is a great excuse to get some friends together and relive one of the best nights of your young life\, or have a better time than you did the first time. Join us for a evening of fun!\n\nDress from any era of prom to make it retro and fun!\n\n \n\nFriday\, September 27\, 2019\n\n6:00 pm - 10:00 pm
X-ALT-DESC;FMTTYPE=text/html:<p><span style="font-size:18px">Join for an evening of music\, food\, drinks and fun at our 21+ retro prom. Local restaurants will be at the event with heavy appetizers to munch throughout the night. The evening will include a cash bar\, silent auction items\, a DJ\, and lots dancing. Will will have our Prom Court\, with a Prom King and Queen crowned by the end of the evening. The nominees will raise funds for the honor of being crowned Prom Royalty.</span></p>\n\n<p style="text-align:center"><span style="font-size:28px">Tickets $50</span></p>\n\n<p>&nbsp\;</p>\n\n<p><span style="font-size:28px"><span style="font-size:18px">This is a great excuse to get some friends together and relive one of the best nights of your young life\, or have a better time than you did the first time. Join us for a evening of fun!</span></span></p>\n\n<p><span style="font-size:18px">Dress from any era of prom to make it retro and fun!</span></p>\n\n<p style="text-align:center">&nbsp\;</p>\n\n<p style="text-align:center"><span style="font-size:28px">Friday\, September 27\, 2019</span></p>\n\n<p style="text-align:center"><span style="font-size:28px">6:00 pm - 10:00 pm</span></p>\n
LOCATION:Marquette High School 306 W 10th St. Michigan City\, IN
UID:e.1949.4375
SEQUENCE:3
DTSTAMP:20260423T081914Z
URL:https://members.laportepartnership.com/events/details/back-to-the-prom-4375
END:VEVENT

END:VCALENDAR
