BEGIN:VCALENDAR
VERSION:2.0
PRODID:-//ChamberMaster//Event Calendar 2.0//EN
METHOD:PUBLISH
X-PUBLISHED-TTL:P3D
REFRESH-INTERVAL:P3D
CALSCALE:GREGORIAN
BEGIN:VEVENT
DTSTART:20160622T210000Z
DTEND:20160623T000000Z
X-MICROSOFT-CDO-ALLDAYEVENT:FALSE
SUMMARY:Be Our Guest- Junior Achievement of La Porte County
DESCRIPTION:Wednesday\, June 22\, 2016   4 to 7 pm\n\nSpire Farm to Fork   Legacy Hills Golf Club Restaurant\n\n229 W. Johnson Rd\, LaPorte\n\n \n\nPlease be our guest for a special VIP after hours party at Spire Farm-to-Fork Restaurant. An investment opportunity to secure the future of LaPorte County's workforce through Junior Achievement students will be presented. Hear Mayor Blair Milo speak on behalf of her valuable experience with Junior Achievement serving LaPorte County.
X-ALT-DESC;FMTTYPE=text/html:<strong><span style="font-family:garamond\,serif\;">Wednesday\, June 22\, 2016 &ndash\; 4 to 7 pm</span></strong><br />\n<strong><span style="font-family:garamond\,serif\;">Spire Farm to Fork &ndash\; Legacy Hills Golf Club Restaurant</span></strong><br />\n<strong><span style="font-family:garamond\,serif\;">229 W. Johnson Rd\, LaPorte</span></strong><br />\n&nbsp\;<br />\n<span style="font-family:garamond\,serif\;"><span style="font-size:10.0pt\;">Please be our guest for a special VIP after hours party at Spire Farm-to-Fork Restaurant. An investment opportunity to secure the future of LaPorte County&rsquo\;s workforce through Junior Achievement students will be presented. Hear Mayor Blair Milo speak on behalf of her valuable experience with Junior Achievement serving LaPorte County.</span></span>
LOCATION:Spire Farm-to-Fork 229 W. Johnson Road La Porte
UID:e.1949.2571
SEQUENCE:3
DTSTAMP:20260426T040204Z
URL:https://members.laportepartnership.com/events/details/be-our-guest-junior-achievement-of-la-porte-county-06-22-2016-2571
END:VEVENT

END:VCALENDAR
