BEGIN:VCALENDAR
VERSION:2.0
PRODID:-//ChamberMaster//Event Calendar 2.0//EN
METHOD:PUBLISH
X-PUBLISHED-TTL:P3D
REFRESH-INTERVAL:P3D
CALSCALE:GREGORIAN
BEGIN:VEVENT
DTSTART:20180325T200000Z
DTEND:20180325T230000Z
X-MICROSOFT-CDO-ALLDAYEVENT:FALSE
SUMMARY:Beer•Wine•Bites
DESCRIPTION:All proceeds raised go to the Rebel Pavilion which will benefit La Porte County Youth Equestrian Programs in memory of Hanna Helen Ohlund.
X-ALT-DESC;FMTTYPE=text/html:<span style="background-color:transparent\; color:rgb(75\, 79\, 86)\; font-family:helvetica\,arial\,sans-serif\; font-size:14px">All proceeds raised go to the Rebel Pavilion which will benefit La Porte County Youth Equestrian Programs in memory of Hanna Helen Ohlund.</span>
LOCATION:Heston Hills Event Center ?1933 E 800 North LaPorte\, IN 46350
UID:e.1949.3062
SEQUENCE:3
DTSTAMP:20260424T133814Z
URL:https://members.laportepartnership.com/events/details/beer-wine-bites-3062
END:VEVENT

END:VCALENDAR
