BEGIN:VCALENDAR
VERSION:2.0
PRODID:-//ChamberMaster//Event Calendar 2.0//EN
METHOD:PUBLISH
X-PUBLISHED-TTL:P3D
REFRESH-INTERVAL:P3D
CALSCALE:GREGORIAN
BEGIN:VEVENT
DTSTART:20180104T220000Z
DTEND:20180105T030000Z
X-MICROSOFT-CDO-ALLDAYEVENT:FALSE
SUMMARY:Bentwood Tavern Give-Back Dinner LA PORTE COUNTY FAMILY YMCA
DESCRIPTION:Thursday\, January 4th\n\n5:00 p.m. to 10:00 p.m. EST\n\n600 West Water Street\n\nNew Buffalo\, MI 49117\n\n\n\nPlease join us for a delicious dinner for a great cause! Bentwood Tavern has agreed to donate an incredibly generous 50% of its food and beverage revenue from Thursday\, January 4th to the Y.\n\nAll proceeds from this event will benefit the Y Scholarship Fund\, which is used to help ensure that everyone in our community has the opportunity to participate in life-changing Y programs like swim lessons\, youth sports\, summer camp and preschool. Please help us spread the word\, then come dine at Bentwood Tavern to support the Y!
X-ALT-DESC;FMTTYPE=text/html:Thursday\, January 4th<br />\n5:00 p.m. to 10:00 p.m. EST<br />\n600 West Water Street<br />\nNew Buffalo\, MI 49117<br />\n<br />\nPlease join us for a delicious dinner for a great cause! Bentwood Tavern has agreed to donate an incredibly generous 50% of its food and beverage revenue from Thursday\, January 4th to the Y.<br />\nAll proceeds from this event will benefit the Y Scholarship Fund\, which is used to help ensure that everyone in our community has the opportunity to participate in life-changing Y programs like swim lessons\, youth sports\, summer camp and preschool. Please help us spread the word\, then come dine at Bentwood Tavern to support the Y!
LOCATION:600 West Water Street New Buffalo\, MI 49117
UID:e.1949.2996
SEQUENCE:3
DTSTAMP:20260424T193706Z
URL:https://members.laportepartnership.com/events/details/bentwood-tavern-give-back-dinner-la-porte-county-family-ymca-2996
END:VEVENT

END:VCALENDAR
