BEGIN:VCALENDAR
VERSION:2.0
PRODID:-//ChamberMaster//Event Calendar 2.0//EN
METHOD:PUBLISH
X-PUBLISHED-TTL:P3D
REFRESH-INTERVAL:P3D
CALSCALE:GREGORIAN
BEGIN:VEVENT
DTSTART:20170921T220000Z
DTEND:20170921T233000Z
X-MICROSOFT-CDO-ALLDAYEVENT:FALSE
SUMMARY:Best Western Plus Business after Hours/Idea & Information Exchange
DESCRIPTION:Join us for the September Idea & Information Exchange & the Greater La Porte Chamber of Commerce Business after Hours at Best Western Plus La Porte Hotel Conference Center\nLocation: 444 Pine Lake Ave in La Porte\n\nThursday\, September 21\, 2017 at 5:00 PM\n\n \n\nSpecial Guest Speaker: Carrie Lambert\, Executive Director\, \n\nIndiana Tourism Association\n\n \n\nThe Idea & Information Exchange forum was created for businesses and organizations to come together and share ideas and information.  As a result\, our partners have enjoyed financial benefits by cooperating with each other.\n\n \n\nWe look forward to learning more about your business or organization. Bring brochures\, sales coupons\, and sales flyers to put on our information table to share with others.\n\n \n\nLight hors d'oeuvres and soft drinks will be served with a cash bar.\n\n \n\nGifts\, Gifts\, Gifts!\n\nWe love gifts for our door awards!\n\nIf you wish to donate something\, please bring it along.\n\n \nPlease Join Us!\nRegister by click the button above or contacting the Chamber at gesse@lpchamber.com or 219.362.3178.
X-ALT-DESC;FMTTYPE=text/html:<h1><strong><span style="font-family:arial\,sans-serif\;"><span style="font-size:12.0pt\;">Join us for the September Idea &amp\; Information Exchange &amp\; the Greater La Porte Chamber of Commerce Business after Hours at Best Western Plus La Porte Hotel Conference Center</span></span></strong></h1>\n<span style="font-family:arial\,sans-serif\;">Location: 444 Pine Lake Ave in La&nbsp\;</span><span style="font-family:arial\,sans-serif\;">Porte</span><br />\n<span style="font-family:arial\,sans-serif\;">Thursday\, September 21\, 2017 at 5:00 PM</span><br />\n&nbsp\;<br />\n<strong><span style="color:#C00000\;"><span style="font-family:arial\,sans-serif\;">Special Guest Speaker: Carrie Lambert\, Executive Director\, </span></span><br />\n<span style="color:#C00000\;"><span style="font-family:arial\,sans-serif\;">Indiana Tourism Association</span></span></strong><br />\n&nbsp\;<br />\n<span style="font-family:arial\,sans-serif\;"><span style="font-size:11.0pt\;">The Idea &amp\; Information Exchange forum was created for businesses and organizations to come together and share ideas and information.&nbsp\; As a result\, our partners have enjoyed financial benefits by cooperating with each other.</span></span><br />\n&nbsp\;<br />\n<span style="color:#C00000\;"><span style="font-family:arial\,sans-serif\;"><span style="font-size:11.0pt\;">We look forward to learning more about your business or organization. </span></span></span><span style="color:#C00000\;"><span style="font-family:arial\,sans-serif\;"><span style="font-size:11.0pt\;">Bring brochures\, sales coupons\,</span></span></span> <span style="color:#C00000\;"><span style="font-family:arial\,sans-serif\;"><span style="font-size:11.0pt\;">and sales flyers to put on our information table to share with others.</span></span></span><br />\n&nbsp\;<br />\n<span style="font-family:arial\,sans-serif\;"><span style="font-size:11.0pt\;">Light hors d&rsquo\;oeuvres and soft drinks will be served with a cash bar<span style="color:#7030A0\;">.</span></span></span><br />\n&nbsp\;<br />\n<strong><span style="color:#C00000\;"><span style="font-family:arial\,sans-serif\;"><span style="font-size:11.0pt\;">Gifts\, Gifts\, Gifts!</span></span></span></strong><br />\n<span style="color:#C00000\;"><span style="font-family:arial\,sans-serif\;"><span style="font-size:11.0pt\;">We love gifts for our door awards!</span></span></span><br />\n<span style="color:#C00000\;"><span style="font-family:arial\,sans-serif\;"><span style="font-size:11.0pt\;">If you wish to donate something\, please bring it along.</span></span></span><br />\n&nbsp\;\n<h2><span style="color:#C00000\;"><span style="font-family:arial\,sans-serif\;"><span style="font-size:11.0pt\;">Please Join Us!</span></span></span></h2>\n<font color="#c00000" face="arial\, sans-serif"><span style="font-size: 14.6667px\;">Register by click the button above or contacting the Chamber at gesse@lpchamber.com or 219.362.3178.</span></font>
LOCATION:Best Western Plus 444 Pine Lake Avenue La Porte
UID:e.1949.2723
SEQUENCE:3
DTSTAMP:20260425T002531Z
URL:https://members.laportepartnership.com/events/details/best-western-plus-business-after-hours-idea-information-exchange-2723
END:VEVENT

END:VCALENDAR
