BEGIN:VCALENDAR
VERSION:2.0
PRODID:-//ChamberMaster//Event Calendar 2.0//EN
METHOD:PUBLISH
X-PUBLISHED-TTL:P3D
REFRESH-INTERVAL:P3D
CALSCALE:GREGORIAN
BEGIN:VEVENT
DTSTART:20180421T000000Z
DTEND:20180421T020000Z
X-MICROSOFT-CDO-ALLDAYEVENT:FALSE
SUMMARY:Big Comedy LaPorte Presents: The Return of Stewart Huff!
DESCRIPTION:Nationally touring headliner Stewart Huff will be performing Friday\, April 20th at 7pm with ALL the proceeds (as always) going to charity! This will be our NINTH show and the previous eight have SOLD OUT so don't delay in getting tickets!\n\n\n\nStewart Huff was the very first comedian to headline Big Comedy at the Little Theatre and people still talk about how amazing that show was and how hard they laughed!\n\n\n\nThe earlier you buy your tickets\, the better your seats will be! The first 50 sold get approximately the first 5 rows of seats\, the second 50 sold get approximately the second 5 rows\, and so on! Have you bought tickets before only to get to the event the night of and get stuck further away than you wanted\, even though you were one of the first ones to buy tickets to support our great causes? WORRY NO MORE!\n\n\n\nThis time around\, LaPorte Meals on Wheels will be getting your money!!\n\n\n\nAs always\, there will be a full cash bar for this 21+ show. Remember\, just because it's for charity DOESN'T mean it's rated G. Adult material/language for sure.\n\n\n\nDoors open at 6pm central time\, show starts at 7pm\, bar open the entire show\, cash only.
X-ALT-DESC;FMTTYPE=text/html:<span style="color: rgb(119\, 119\, 119)\; font-family: Helvetica\, Arial\, sans-serif\; font-size: 12px\;">Nationally touring headliner Stewart Huff will be performing Friday\, April 20th at 7pm with ALL the proceeds (as always) going to charity! This will be our NINTH show and the previous eight have SOLD OUT so don&#39\;t delay in getting tickets!</span><br style="color: rgb(119\, 119\, 119)\; font-family: Helvetica\, Arial\, sans-serif\; font-size: 12px\;" />\n<br style="color: rgb(119\, 119\, 119)\; font-family: Helvetica\, Arial\, sans-serif\; font-size: 12px\;" />\n<span style="color: rgb(119\, 119\, 119)\; font-family: Helvetica\, Arial\, sans-serif\; font-size: 12px\;">Stewart Huff was the very first comedian to headline Big Comedy at the Little Theatre and people still talk about how amazing that show was and how hard they laughed!</span><br style="color: rgb(119\, 119\, 119)\; font-family: Helvetica\, Arial\, sans-serif\; font-size: 12px\;" />\n<br style="color: rgb(119\, 119\, 119)\; font-family: Helvetica\, Arial\, sans-serif\; font-size: 12px\;" />\n<span style="color: rgb(119\, 119\, 119)\; font-family: Helvetica\, Arial\, sans-serif\; font-size: 12px\;">The earlier you buy your tickets\, the better your seats will be! The first 50 sold get approximately the first 5 rows of seats\, the second 50 sold get approximately the second 5 rows\, and so on! Have you bought tickets before only to get to the event the night of and get stuck further away than you wanted\, even though you were one of the first ones to buy tickets to support our great causes? WORRY NO MORE!</span><br style="color: rgb(119\, 119\, 119)\; font-family: Helvetica\, Arial\, sans-serif\; font-size: 12px\;" />\n<br style="color: rgb(119\, 119\, 119)\; font-family: Helvetica\, Arial\, sans-serif\; font-size: 12px\;" />\n<span style="color: rgb(119\, 119\, 119)\; font-family: Helvetica\, Arial\, sans-serif\; font-size: 12px\;">This time around\, LaPorte Meals on Wheels will be getting your money!!</span><br style="color: rgb(119\, 119\, 119)\; font-family: Helvetica\, Arial\, sans-serif\; font-size: 12px\;" />\n<br style="color: rgb(119\, 119\, 119)\; font-family: Helvetica\, Arial\, sans-serif\; font-size: 12px\;" />\n<span style="color: rgb(119\, 119\, 119)\; font-family: Helvetica\, Arial\, sans-serif\; font-size: 12px\;">As always\, there will be a full cash bar for this 21+ show. Remember\, just because it&#39\;s for charity DOESN&#39\;T mean it&#39\;s rated G. Adult material/language for sure.</span><br style="color: rgb(119\, 119\, 119)\; font-family: Helvetica\, Arial\, sans-serif\; font-size: 12px\;" />\n<br style="color: rgb(119\, 119\, 119)\; font-family: Helvetica\, Arial\, sans-serif\; font-size: 12px\;" />\n<span style="color: rgb(119\, 119\, 119)\; font-family: Helvetica\, Arial\, sans-serif\; font-size: 12px\;">Doors open at 6pm central time\, show starts at 7pm\, bar open the entire show\, cash only.</span>
LOCATION:La Porte Little Theatre 218 A Street La Porte
UID:e.1949.4103
SEQUENCE:3
DTSTAMP:20260424T134442Z
URL:https://members.laportepartnership.com/events/details/big-comedy-laporte-presents-the-return-of-stewart-huff-4103
END:VEVENT

END:VCALENDAR
