BEGIN:VCALENDAR
VERSION:2.0
PRODID:-//ChamberMaster//Event Calendar 2.0//EN
METHOD:PUBLISH
X-PUBLISHED-TTL:P3D
REFRESH-INTERVAL:P3D
CALSCALE:GREGORIAN
BEGIN:VEVENT
DTSTART:20160623T200000Z
DTEND:20160623T230000Z
X-MICROSOFT-CDO-ALLDAYEVENT:FALSE
SUMMARY:Biz in the Backyard NWIMeetup
DESCRIPTION:Time for a summer open house and Meetup at the new Camp Life good news log cabin on the hill in Valpo.\n\n\n\nCome check out the new expanded digs\, head downstairs to see the Great News Studio\, hang out with friends in the big backyard and stay a while meeting some cool new people and enjoying some down time among friends.\n\n\n\nOur Biz in the Backyard and Meetup events are very informal so please leave the suit and tie and any stuffy business practices at the office\, while throwing on shorts and flip-flops and bringing your good time attitude.\n\n\n\nAnyone that would like to bring food or drinks to share from your company or organization contact Jenny or Gina and we'll get you set up with a table and chance to introduce yourselves and make new contacts.\n\n\n\nPlease RSVP so we have an idea of how many are coming for food and drinks. Come on down to Camp Life for a good summer meet up and open house.
X-ALT-DESC;FMTTYPE=text/html:<span style="color: rgb(75\, 79\, 86)\; font-family: helvetica\, arial\, sans-serif\; font-size: 14px\; line-height: 18.76px\;">Time for a summer open house and Meetup at the new Camp Life good news log cabin on the hill in Valpo.</span><br style="color: rgb(75\, 79\, 86)\; font-family: helvetica\, arial\, sans-serif\; font-size: 14px\; line-height: 18.76px\;" />\n<br style="color: rgb(75\, 79\, 86)\; font-family: helvetica\, arial\, sans-serif\; font-size: 14px\; line-height: 18.76px\;" />\n<span style="color: rgb(75\, 79\, 86)\; font-family: helvetica\, arial\, sans-serif\; font-size: 14px\; line-height: 18.76px\;">Come check out the new expanded digs\, head downstairs to see the Great News Studio\, hang out with friends in the big backyard and stay a while meeting some cool new people and enjoying some down time among friends.</span><br style="color: rgb(75\, 79\, 86)\; font-family: helvetica\, arial\, sans-serif\; font-size: 14px\; line-height: 18.76px\;" />\n<br style="color: rgb(75\, 79\, 86)\; font-family: helvetica\, arial\, sans-serif\; font-size: 14px\; line-height: 18.76px\;" />\n<span style="color: rgb(75\, 79\, 86)\; font-family: helvetica\, arial\, sans-serif\; font-size: 14px\; line-height: 18.76px\;">Our Biz in the Backyard and Meetup events are very informal so please leave the suit and tie and any stuffy business practices at the office\, while throwing on shorts and flip-flops and bringing your good time attitude.</span><br style="color: rgb(75\, 79\, 86)\; font-family: helvetica\, arial\, sans-serif\; font-size: 14px\; line-height: 18.76px\;" />\n<br style="color: rgb(75\, 79\, 86)\; font-family: helvetica\, arial\, sans-serif\; font-size: 14px\; line-height: 18.76px\;" />\n<span style="color: rgb(75\, 79\, 86)\; font-family: helvetica\, arial\, sans-serif\; font-size: 14px\; line-height: 18.76px\;">Anyone that would like to bring food or drinks to share from your company or organization contact Jenny or Gina and we&#39\;ll get you set up with a table and chance to introduce yourselves and make new contacts.</span><br style="color: rgb(75\, 79\, 86)\; font-family: helvetica\, arial\, sans-serif\; font-size: 14px\; line-height: 18.76px\;" />\n<br style="color: rgb(75\, 79\, 86)\; font-family: helvetica\, arial\, sans-serif\; font-size: 14px\; line-height: 18.76px\;" />\n<span style="color: rgb(75\, 79\, 86)\; font-family: helvetica\, arial\, sans-serif\; font-size: 14px\; line-height: 18.76px\;">Please RSVP so we have an idea of how many are coming for food and drinks. Come on down to Camp Life for a good summer meet up and open house.</span>
LOCATION:Ideas in Motion Media 951 West Street Valparaiso
UID:e.1949.2583
SEQUENCE:3
DTSTAMP:20260426T034310Z
URL:https://members.laportepartnership.com/events/details/biz-in-the-backyard-nwimeetup-06-23-2016-2583
END:VEVENT

END:VCALENDAR
