BEGIN:VCALENDAR
VERSION:2.0
PRODID:-//ChamberMaster//Event Calendar 2.0//EN
METHOD:PUBLISH
X-PUBLISHED-TTL:P3D
REFRESH-INTERVAL:P3D
CALSCALE:GREGORIAN
BEGIN:VEVENT
DTSTART:20181129T220000Z
DTEND:20181130T000000Z
X-MICROSOFT-CDO-ALLDAYEVENT:FALSE
SUMMARY:Blondie's Antiques Ribbon Cutting & Open House
DESCRIPTION:Blondie's Antiques will hold a ribbon cutting on Thursday\, November 29 at 4 p.m. to celebrate its new downtown La Porte location at 709 Lincolnway. The business will be opening at 4 p.m. with an open house following the ribbon cutting until 6 p.m. The Greater La Porte Chamber of Commerce will administer the ribbon cutting. The event is free and open to the public. Registration is encouraged and can be done by calling the Chamber at (219) 362-3178 or online at business.lpchamber.com/events.\n\n\n\nBlondie's Antiques is located in the heart of downtown La Porte in one of the city's old historic buildings with many of its original features remaining.\n\n\n\nFor more information about the Greater La Porte Chamber of Commerce\, visit www.lpchamber.com\, like their Facebook page\, or call 219.362.3178.
X-ALT-DESC;FMTTYPE=text/html:<span style="font-family:georgia\,serif\;"><span style="font-size:12.0pt\;">Blondie&rsquo\;s Antiques will hold a ribbon cutting on Thursday\, November 29 at 4 p.m. to celebrate its new downtown La Porte location at 709 Lincolnway. The business will be opening at 4 p.m. with an open house following the ribbon cutting until 6 p.m. The Greater La Porte Chamber of Commerce will administer the ribbon cutting. The event is free and open to the public. Registration is encouraged and can be done by calling the Chamber at (219) 362-3178 or online at business.lpchamber.com/events.</span></span><br />\n<br />\n<span style="font-family:georgia\,serif\;"><span style="font-size:12.0pt\;">Blondie&rsquo\;s Antiques is located in the heart of downtown La Porte in one of the city&rsquo\;s old historic buildings with many of its original features remaining.</span></span><br />\n<br />\n<span style="font-family:georgia\,serif\;"><span style="font-size:12.0pt\;">For more information about the Greater La Porte Chamber of Commerce\, visit www.lpchamber.com\, like their Facebook page\, or call 219.362.3178.</span></span>
LOCATION:709 Lincolnway La Porte\, IN 46350
UID:e.1949.4266
SEQUENCE:3
DTSTAMP:20260424T023048Z
URL:https://members.laportepartnership.com/events/details/blondie-s-antiques-ribbon-cutting-open-house-4266
END:VEVENT

END:VCALENDAR
