BEGIN:VCALENDAR
VERSION:2.0
PRODID:-//ChamberMaster//Event Calendar 2.0//EN
METHOD:PUBLISH
X-PUBLISHED-TTL:P3D
REFRESH-INTERVAL:P3D
CALSCALE:GREGORIAN
BEGIN:VEVENT
DTSTART:20171127T220000Z
DTEND:20171127T223000Z
X-MICROSOFT-CDO-ALLDAYEVENT:FALSE
SUMMARY:Bottle Shop Too Ribbon Cutting
DESCRIPTION:The Bottle Shop will be opening their new Bottle Shop Too location at 1301 Pine Lake Road. The store has been extensively renovated and will feature a large selection of wine\, beer\, and spirits. To celebrate the location's official opening\, the Bottle Shop will hold a ribbon cutting administered by the Greater La Porte Chamber of Commerce Greater La Porte Chamber of Commerce on November 27 at 4:00 p.m.\n\nThe Bottle Shop and Bottle Shop Too have been keeping you in good spirits since 1993. The business offers the wide liquor selections and great pricing. They state that if they don't have the product you want\, then you don't need it.\n\nTo learn more about the Bottle Shop and the Bottle Shop Too\, go to their Facebook page or visit their locations at 1301 Pine Lake Road or 1221 State Road 2 in La Porte. For more information about the Greater La Porte Chamber of Commerce\, visit www.lpchamber.com\, like their Facebook page\, or call 219.362.3178.
X-ALT-DESC;FMTTYPE=text/html:<span style="font-family:georgia\,serif\;"><span style="font-size:12.0pt\;">The Bottle Shop will be opening their new Bottle Shop Too location at 1301 Pine Lake Road. The store has been extensively renovated and will feature a large selection of wine\, beer\, and spirits. To celebrate the location&rsquo\;s official opening\, the Bottle Shop will hold a ribbon cutting administered by the Greater La Porte Chamber of Commerce Greater La Porte Chamber of Commerce on November 27 at 4:00 p.m.</span></span><br />\n<span style="font-family:georgia\,serif\;"><span style="font-size:12.0pt\;">The Bottle Shop and Bottle Shop Too have been keeping you in good spirits since 1993. The business offers the wide liquor selections and great pricing. They state that if they don&rsquo\;t have the product you want\, then you don&rsquo\;t need it.</span></span><br />\n<span style="font-family:georgia\,serif\;"><span style="font-size:12.0pt\;">To learn more about the Bottle Shop and the Bottle Shop Too\, go to their Facebook page or visit their locations at 1301 Pine Lake Road or 1221 State Road 2 in La Porte. For more information about the Greater La Porte Chamber of Commerce\, visit www.lpchamber.com\, like their Facebook page\, or call 219.362.3178.</span></span>
LOCATION:Bottle Shop Too 1301 Pine Lake Road La Porte
UID:e.1949.2961
SEQUENCE:3
DTSTAMP:20260424T230029Z
URL:https://members.laportepartnership.com/events/details/bottle-shop-too-ribbon-cutting-2961
END:VEVENT

END:VCALENDAR
