BEGIN:VCALENDAR
VERSION:2.0
PRODID:-//ChamberMaster//Event Calendar 2.0//EN
METHOD:PUBLISH
X-PUBLISHED-TTL:P3D
REFRESH-INTERVAL:P3D
CALSCALE:GREGORIAN
BEGIN:VEVENT
DTSTART:20180609T220000Z
DTEND:20180610T010000Z
X-MICROSOFT-CDO-ALLDAYEVENT:FALSE
SUMMARY:Brew at the Zoo
DESCRIPTION:When: Saturday\, June 9th from 5-8 p.m.\n\nWhere: Washington Park Zoo\, 115 Lake Shore Drive\, Michigan City\n\nTickets: $50 general admission\; $15 designated driver\n\nInformation: 219-873-1510\; www.washingtonparkzoo.com\n\n \n\nJoin The Washington Park Zoo for an amazingly Wild Brew Fest experience located on the beautiful Michigan City\, Washington Park lake shore!\n\nFestivities include beer\, wine\, and cider tasting\, live animal interactions\, and Live Entertainment.\n\n \n\nTickets are available via eventbrite at brewatthewpzoo2018.eventbrite.com The event usually sells out before opening day so be sure to grab some tickets before they are gone (event is 21 and older)!
X-ALT-DESC;FMTTYPE=text/html:When: Saturday\, June 9th from 5-8 p.m.<br />\nWhere: Washington Park Zoo\, 115 Lake Shore Drive\, Michigan City<br />\nTickets: $50 general admission\; $15 designated driver<br />\nInformation: 219-873-1510\; <a href="http://www.washingtonparkzoo.com">www.washingtonparkzoo.com</a><br />\n&nbsp\;<br />\nJoin The Washington Park Zoo for an amazingly Wild Brew Fest experience located on the beautiful Michigan City\, Washington Park lake shore!<br />\nFestivities include beer\, wine\, and cider tasting\, live animal interactions\, and Live Entertainment.<br />\n&nbsp\;<br />\nTickets are available via eventbrite at brewatthewpzoo2018.eventbrite.com The event usually sells out before opening day so be sure to grab some tickets before they are gone (event is 21 and older)!
LOCATION:Washington Park Zoo 115 Lakeshore Drive Michigan City
UID:e.1949.4155
SEQUENCE:3
DTSTAMP:20260424T084410Z
URL:https://members.laportepartnership.com/events/details/brew-at-the-zoo-4155
END:VEVENT

END:VCALENDAR
